BEGIN:VCALENDAR
VERSION:2.0
PRODID:-//LeisureCourses.net - short courses &amp; residential study breaks in great locations - ECPv4.9.6//NONSGML v1.0//EN
CALSCALE:GREGORIAN
METHOD:PUBLISH
X-WR-CALNAME:LeisureCourses.net - short courses &amp; residential study breaks in great locations
X-ORIGINAL-URL:https://www.leisurecourses.net
X-WR-CALDESC:Events for LeisureCourses.net - short courses &amp; residential study breaks in great locations
BEGIN:VTIMEZONE
TZID:"Europe/Paris"
BEGIN:DAYLIGHT
TZOFFSETFROM:+0100
TZOFFSETTO:+0200
TZNAME:CEST
DTSTART:20160327T010000
END:DAYLIGHT
BEGIN:STANDARD
TZOFFSETFROM:+0200
TZOFFSETTO:+0100
TZNAME:CET
DTSTART:20161030T010000
END:STANDARD
END:VTIMEZONE
BEGIN:VEVENT
DTSTART;TZID="Europe/Paris":20160601T090000
DTEND;TZID="Europe/Paris":20160601T160000
DTSTAMP:20260420T125356
CREATED:20160218T160103Z
LAST-MODIFIED:20160219T103913Z
UID:20845-1464771600-1464796800@www.leisurecourses.net
SUMMARY:Kinky Ukuleles
DESCRIPTION:\nThe songs of ‘The Kinks’ will be the focus for this innovative ukulele workshop run by Sally Vaughan who has delivered a number of popular ukulele courses at Dillington House over the past 2 years. When Ray Davies of ‘The Kinks’ penned his 60s classics he often cited influences from the music hall days of the 1920s when ukulele music was very much in its heyday. The chord progressions and arrangements of Kinks songs therefore lend themselves well to modern day interpretations on the ukulele\, and the melodies and lyrics allow for some interesting singing harmonies and vocal effects. This workshop is suitable for all levels of players\, although the ability to play the chords D\, Dm\, G\, G7\, A\, Am\, C and F comfortably is recommended. All you need is a ukulele and an open mind! \n\n \n
URL:https://www.leisurecourses.net/course/kinky-ukuleles/
LOCATION:Dillington\, Dillington House\, Ilminster\, Somerset\, TA19 9DT\, United Kingdom
CATEGORIES:Making Music
ORGANIZER;CN="Dillington":MAILTO:dillington@somerset.gov.uk	
END:VEVENT
END:VCALENDAR