BEGIN:VCALENDAR
VERSION:2.0
PRODID:-//LeisureCourses.net - short courses &amp; residential study breaks in great locations - ECPv4.9.6//NONSGML v1.0//EN
CALSCALE:GREGORIAN
METHOD:PUBLISH
X-WR-CALNAME:LeisureCourses.net - short courses &amp; residential study breaks in great locations
X-ORIGINAL-URL:https://www.leisurecourses.net
X-WR-CALDESC:Events for LeisureCourses.net - short courses &amp; residential study breaks in great locations
BEGIN:VTIMEZONE

END:VTIMEZONE
BEGIN:VEVENT
DTSTART;TZID="Europe/Paris":19700101T000000
DTEND;TZID="Europe/Paris":19700101T000000
DTSTAMP:20260419T210906
CREATED:20150215T131949Z
LAST-MODIFIED:20150215T133825Z
UID:12358-0-0@www.leisurecourses.net
SUMMARY:Knife Skills Masterclass - Day School with Peter Lien
DESCRIPTION:\nLearn the essential skills needed to prepare meat –  fish and vegetables like a pro. In one of Denmans most popular courses –  youll master the different techniques required to dice –  julienne –  and finely chop fruit and vegetables –  fillet fish and joint poultry. Youll also learn how to choose –  maintain and store your knives properly. \n\n \n
URL:https://www.leisurecourses.net/course/knife-skills-masterclass-day-school-with-peter-lien-3/
LOCATION:Denman\, Denman \, Abingdon\, Oxfordshire\, OX13 6NW\, United Kingdom
CATEGORIES:Cookery
ORGANIZER;CN="Denman":MAILTO:info@denman.org.uk
END:VEVENT
END:VCALENDAR