BEGIN:VCALENDAR
VERSION:2.0
PRODID:-//LeisureCourses.net - short courses &amp; residential study breaks in great locations - ECPv4.9.6//NONSGML v1.0//EN
CALSCALE:GREGORIAN
METHOD:PUBLISH
X-WR-CALNAME:LeisureCourses.net - short courses &amp; residential study breaks in great locations
X-ORIGINAL-URL:https://www.leisurecourses.net
X-WR-CALDESC:Events for LeisureCourses.net - short courses &amp; residential study breaks in great locations
BEGIN:VTIMEZONE
TZID:"Europe/Paris"
BEGIN:DAYLIGHT
TZOFFSETFROM:+0100
TZOFFSETTO:+0200
TZNAME:CEST
DTSTART:20170326T010000
END:DAYLIGHT
BEGIN:STANDARD
TZOFFSETFROM:+0200
TZOFFSETTO:+0100
TZNAME:CET
DTSTART:20171029T010000
END:STANDARD
END:VTIMEZONE
BEGIN:VEVENT
DTSTART;TZID="Europe/Paris":20170422T093000
DTEND;TZID="Europe/Paris":20170422T170000
DTSTAMP:20260419T175932
CREATED:20161212T100628Z
LAST-MODIFIED:20161212T104018Z
UID:25337-1492853400-1492880400@www.leisurecourses.net
SUMMARY:Leading with Grace and Resilience
DESCRIPTION:\nA conversational workshop on a new paradigm of leadership from Rising Women\, Rising World. \n\n \n
URL:https://www.leisurecourses.net/course/leading-with-grace-and-resilience/
LOCATION:Hawkwood College\, Painswick Old Road \, Stroud \, Gloucestershire\, GL6 7QW\, United Kingdom
CATEGORIES:General
ORGANIZER;CN="Hawkwood%20College":MAILTO:info@hawkwoodcollege.co.uk
END:VEVENT
END:VCALENDAR