BEGIN:VCALENDAR
VERSION:2.0
PRODID:-//LeisureCourses.net - short courses &amp; residential study breaks in great locations - ECPv4.9.6//NONSGML v1.0//EN
CALSCALE:GREGORIAN
METHOD:PUBLISH
X-WR-CALNAME:LeisureCourses.net - short courses &amp; residential study breaks in great locations
X-ORIGINAL-URL:https://www.leisurecourses.net
X-WR-CALDESC:Events for LeisureCourses.net - short courses &amp; residential study breaks in great locations
BEGIN:VTIMEZONE
TZID:"Europe/Paris"
BEGIN:DAYLIGHT
TZOFFSETFROM:+0100
TZOFFSETTO:+0200
TZNAME:CEST
DTSTART:20130331T010000
END:DAYLIGHT
BEGIN:STANDARD
TZOFFSETFROM:+0200
TZOFFSETTO:+0100
TZNAME:CET
DTSTART:20131027T010000
END:STANDARD
END:VTIMEZONE
BEGIN:VEVENT
DTSTART;TZID="Europe/Paris":20131102T110000
DTEND;TZID="Europe/Paris":20131102T160000
DTSTAMP:20260419T224424
CREATED:20130820T080405Z
LAST-MODIFIED:20130822T124505Z
UID:4318-1383390000-1383408000@www.leisurecourses.net
SUMMARY:Learn to Spin
DESCRIPTION:\nHave you ever thought you might like to try hand spinning your own yarn?  Or maybe you have tried it and would like to refresh your skills.  This one day course can offer you something in either case!  Working with spindles and with wheels\, we will look at the basics of spinning\, some fibre preparation\, and how to tackle wool\, silk and maybe some other fibres.  We will supply all of these\, enough spindles for all participants\, and we will have a few wheels available for the class to use. \n\n \n
URL:https://www.leisurecourses.net/course/learn-spin/
LOCATION:Alston Hall\, Alston Hall\, Alston Lane\, Longridge\, Preston\, Lancashire\, PR3 3BP\, United Kingdom
CATEGORIES:Crafts
ORGANIZER;CN="Lancashire%20Adult%20Learning":MAILTO:Anne.Russell@lancashire.gov.uk
END:VEVENT
END:VCALENDAR