BEGIN:VCALENDAR
VERSION:2.0
PRODID:-//LeisureCourses.net - short courses &amp; residential study breaks in great locations - ECPv4.9.6//NONSGML v1.0//EN
CALSCALE:GREGORIAN
METHOD:PUBLISH
X-WR-CALNAME:LeisureCourses.net - short courses &amp; residential study breaks in great locations
X-ORIGINAL-URL:https://www.leisurecourses.net
X-WR-CALDESC:Events for LeisureCourses.net - short courses &amp; residential study breaks in great locations
BEGIN:VTIMEZONE
TZID:"Europe/Paris"
BEGIN:DAYLIGHT
TZOFFSETFROM:+0100
TZOFFSETTO:+0200
TZNAME:CEST
DTSTART:20170326T010000
END:DAYLIGHT
BEGIN:STANDARD
TZOFFSETFROM:+0200
TZOFFSETTO:+0100
TZNAME:CET
DTSTART:20171029T010000
END:STANDARD
END:VTIMEZONE
BEGIN:VEVENT
DTSTART;TZID="Europe/Paris":20171020T170000
DTEND;TZID="Europe/Paris":20171022T170000
DTSTAMP:20260421T131438
CREATED:20161212T122122Z
LAST-MODIFIED:20170306T064048Z
UID:25366-1508518800-1508691600@www.leisurecourses.net
SUMMARY:Letterpress Printing - Greetings Cards
DESCRIPTION:\nCome and learn how to print greetings cards the traditional way. Beginners welcome. \n\n \n
URL:https://www.leisurecourses.net/course/letterpress-printing-greetings-cards/
LOCATION:The Grange\, Grange Road\, Ellesmere\, Shropshire\, SY12 9DE \, United Kingdom
CATEGORIES:Crafts,Letterpress printing
ORGANIZER;CN="The%20Grange":MAILTO:info@thegrange.uk.com
END:VEVENT
END:VCALENDAR