BEGIN:VCALENDAR
VERSION:2.0
PRODID:-//LeisureCourses.net - short courses &amp; residential study breaks in great locations - ECPv4.9.6//NONSGML v1.0//EN
CALSCALE:GREGORIAN
METHOD:PUBLISH
X-WR-CALNAME:LeisureCourses.net - short courses &amp; residential study breaks in great locations
X-ORIGINAL-URL:https://www.leisurecourses.net
X-WR-CALDESC:Events for LeisureCourses.net - short courses &amp; residential study breaks in great locations
BEGIN:VTIMEZONE
TZID:"Europe/Paris"
BEGIN:DAYLIGHT
TZOFFSETFROM:+0100
TZOFFSETTO:+0200
TZNAME:CEST
DTSTART:20150329T010000
END:DAYLIGHT
BEGIN:STANDARD
TZOFFSETFROM:+0200
TZOFFSETTO:+0100
TZNAME:CET
DTSTART:20151025T010000
END:STANDARD
END:VTIMEZONE
BEGIN:VEVENT
DTSTART;TZID="Europe/Paris":20150327T060000
DTEND;TZID="Europe/Paris":20150327T060000
DTSTAMP:20260420T125658
CREATED:20150214T165005Z
LAST-MODIFIED:20150214T165627Z
UID:11840-1427436000-1427436000@www.leisurecourses.net
SUMMARY:Letterpress Printing with Jon Ward-Allen & Ken Burnley
DESCRIPTION:\nAn introduction to letterpress printing. \n\n \n
URL:https://www.leisurecourses.net/course/letterpress-printing-with-jon-ward-allen-ken-burnley/
LOCATION:The Grange\, Grange Road\, Ellesmere\, Shropshire\, SY12 9DE \, United Kingdom
CATEGORIES:Crafts
ORGANIZER;CN="The%20Grange":MAILTO:info@thegrange.uk.com
END:VEVENT
END:VCALENDAR