BEGIN:VCALENDAR
VERSION:2.0
PRODID:-//LeisureCourses.net - short courses &amp; residential study breaks in great locations - ECPv4.9.6//NONSGML v1.0//EN
CALSCALE:GREGORIAN
METHOD:PUBLISH
X-WR-CALNAME:LeisureCourses.net - short courses &amp; residential study breaks in great locations
X-ORIGINAL-URL:https://www.leisurecourses.net
X-WR-CALDESC:Events for LeisureCourses.net - short courses &amp; residential study breaks in great locations
BEGIN:VTIMEZONE
TZID:"Europe/Paris"
BEGIN:DAYLIGHT
TZOFFSETFROM:+0100
TZOFFSETTO:+0200
TZNAME:CEST
DTSTART:20160327T010000
END:DAYLIGHT
BEGIN:STANDARD
TZOFFSETFROM:+0200
TZOFFSETTO:+0100
TZNAME:CET
DTSTART:20161030T010000
END:STANDARD
END:VTIMEZONE
BEGIN:VEVENT
DTSTART;TZID="Europe/Paris":20160312T100000
DTEND;TZID="Europe/Paris":20160312T151500
DTSTAMP:20260420T002808
CREATED:20160111T104550Z
LAST-MODIFIED:20160111T105720Z
UID:19837-1457776800-1457795700@www.leisurecourses.net
SUMMARY:Make a Mosaic for your Garden
DESCRIPTION:\nCreate a mosaic that’s specifically designed to go outside! You can make a mosaic sign or panel to adorn your garden\, or mosaic a pot or other decorative object. This course is for students of any ability\, beginners or experienced mosaicists.Course materials are available from the tutor; please see the course information sheet for details. \n\n \n
URL:https://www.leisurecourses.net/course/make-a-mosaic-for-your-garden-2/
LOCATION:Missenden Abbey\, Great Missenden\, Buckinghamshire\, HP16 0BD\, United Kingdom
CATEGORIES:Crafts
ORGANIZER;CN="Buckinghamshire%20Adult%20Learning":MAILTO:dcevreham@buckscc.gov.uk
END:VEVENT
END:VCALENDAR