BEGIN:VCALENDAR
VERSION:2.0
PRODID:-//LeisureCourses.net - short courses &amp; residential study breaks in great locations - ECPv4.9.6//NONSGML v1.0//EN
CALSCALE:GREGORIAN
METHOD:PUBLISH
X-WR-CALNAME:LeisureCourses.net - short courses &amp; residential study breaks in great locations
X-ORIGINAL-URL:https://www.leisurecourses.net
X-WR-CALDESC:Events for LeisureCourses.net - short courses &amp; residential study breaks in great locations
BEGIN:VTIMEZONE
TZID:"Europe/Paris"
BEGIN:DAYLIGHT
TZOFFSETFROM:+0100
TZOFFSETTO:+0200
TZNAME:CEST
DTSTART:20160327T010000
END:DAYLIGHT
BEGIN:STANDARD
TZOFFSETFROM:+0200
TZOFFSETTO:+0100
TZNAME:CET
DTSTART:20161030T010000
END:STANDARD
END:VTIMEZONE
BEGIN:VEVENT
DTSTART;TZID="Europe/Paris":20160815T120000
DTEND;TZID="Europe/Paris":20160819T150000
DTSTAMP:20260421T102643
CREATED:20160307T143321Z
LAST-MODIFIED:20160307T162627Z
UID:21333-1471262400-1471618800@www.leisurecourses.net
SUMMARY:Making Embroidered Books "Transferred to the Cover"
DESCRIPTION:\nMake a decorative book with a transfer dyed\, pelmet vilene cover. The cover is embellished with additional pieces of printed pelmet vilene\, hand colouring\, sealed with acrylic wax and finished with hand or machine stitch. Pages will be made from wallpaper lining paper which will be coloured using Koh-I-Noor dye palette. Simple binding and fastening techniques will be explained and guidance given on how to fill the book. \n\n \n
URL:https://www.leisurecourses.net/course/making-embroidered-books-transferred-to-the-cover/
LOCATION:Knuston Hall\, Knuston Hall \, Irchester\, Wellingborough \, Northamptonshire \, NN29 7EU\, United Kingdom
CATEGORIES:Crafts
ORGANIZER;CN="Knuston%20Hall":MAILTO:enquiries@knustonhall.org.uk
END:VEVENT
END:VCALENDAR