BEGIN:VCALENDAR
VERSION:2.0
PRODID:-//LeisureCourses.net - short courses &amp; residential study breaks in great locations - ECPv4.9.6//NONSGML v1.0//EN
CALSCALE:GREGORIAN
METHOD:PUBLISH
X-WR-CALNAME:LeisureCourses.net - short courses &amp; residential study breaks in great locations
X-ORIGINAL-URL:https://www.leisurecourses.net
X-WR-CALDESC:Events for LeisureCourses.net - short courses &amp; residential study breaks in great locations
BEGIN:VTIMEZONE
TZID:"Europe/Paris"
BEGIN:DAYLIGHT
TZOFFSETFROM:+0100
TZOFFSETTO:+0200
TZNAME:CEST
DTSTART:20130331T010000
END:DAYLIGHT
BEGIN:STANDARD
TZOFFSETFROM:+0200
TZOFFSETTO:+0100
TZNAME:CET
DTSTART:20131027T010000
END:STANDARD
END:VTIMEZONE
BEGIN:VEVENT
DTSTART;TZID="Europe/Paris":20131202T190000
DTEND;TZID="Europe/Paris":20131205T160000
DTSTAMP:20260419T204444
CREATED:20131009T101915Z
LAST-MODIFIED:20150214T152415Z
UID:5388-1386010800-1386259200@www.leisurecourses.net
SUMMARY:Everyone Matters - a Course for the Community
DESCRIPTION:\nThis new course\, led by the London Mozart Players’ former principal clarinetist and Education and Community Manager Margaret Archibald\, offers participants the chance to prepare performances which we will then take into care homes in our neighbourhood. We are looking for players who\, after careful mentoring from Margaret and her colleagues\, will have the confidence and skill to bring the fruits of their talents to an audience thirsty for the transformative experience of live music. Whatever instrument you play\, we’ll find the partners to suit you. You can also come as a ready made ensemble. Margaret will advise on repertoire before the course begins. You’ll leave the course not only having had the benefit of the finest teaching but also with the satisfaction of having given something very precious to a deserving part of the community.  \n\n \n
URL:https://www.leisurecourses.net/course/matters-community/
LOCATION:Benslow\,  Ibberson Way\, Hitchin\, Hertfordshire\, SG4 9RB\, United Kingdom
CATEGORIES:General Interest,Music
ORGANIZER;CN="Benslow":MAILTO:vicky@benslowmusic.org
END:VEVENT
END:VCALENDAR