BEGIN:VCALENDAR
VERSION:2.0
PRODID:-//LeisureCourses.net - short courses &amp; residential study breaks in great locations - ECPv4.9.6//NONSGML v1.0//EN
CALSCALE:GREGORIAN
METHOD:PUBLISH
X-WR-CALNAME:LeisureCourses.net - short courses &amp; residential study breaks in great locations
X-ORIGINAL-URL:https://www.leisurecourses.net
X-WR-CALDESC:Events for LeisureCourses.net - short courses &amp; residential study breaks in great locations
BEGIN:VTIMEZONE
TZID:"Europe/Paris"
BEGIN:DAYLIGHT
TZOFFSETFROM:+0100
TZOFFSETTO:+0200
TZNAME:CEST
DTSTART:20160327T010000
END:DAYLIGHT
BEGIN:STANDARD
TZOFFSETFROM:+0200
TZOFFSETTO:+0100
TZNAME:CET
DTSTART:20161030T010000
END:STANDARD
END:VTIMEZONE
BEGIN:VEVENT
DTSTART;TZID="Europe/Paris":20160724T190000
DTEND;TZID="Europe/Paris":20160729T150000
DTSTAMP:20260420T085741
CREATED:20160307T143318Z
LAST-MODIFIED:20160307T170107Z
UID:21309-1469386800-1469804400@www.leisurecourses.net
SUMMARY:Milanese Lace
DESCRIPTION:\nThis is a course to learn or add to your knowledge of this popular and versatile lace. You will be able to work a traditional design or experiment with colour and a variety of threads. Perhaps create an exciting piece to  be worn as “jewellery” It will also be an opportunity to continue with an ongoing project or design a piece of your own so bring along any ideas you may have.  \n  \n\n \n
URL:https://www.leisurecourses.net/course/milanese-lace/
LOCATION:Knuston Hall\, Knuston Hall \, Irchester\, Wellingborough \, Northamptonshire \, NN29 7EU\, United Kingdom
CATEGORIES:Crafts
ORGANIZER;CN="Knuston%20Hall":MAILTO:enquiries@knustonhall.org.uk
END:VEVENT
END:VCALENDAR