BEGIN:VCALENDAR
VERSION:2.0
PRODID:-//LeisureCourses.net - short courses &amp; residential study breaks in great locations - ECPv4.9.6//NONSGML v1.0//EN
CALSCALE:GREGORIAN
METHOD:PUBLISH
X-WR-CALNAME:LeisureCourses.net - short courses &amp; residential study breaks in great locations
X-ORIGINAL-URL:https://www.leisurecourses.net
X-WR-CALDESC:Events for LeisureCourses.net - short courses &amp; residential study breaks in great locations
BEGIN:VTIMEZONE
TZID:"Europe/Paris"
BEGIN:DAYLIGHT
TZOFFSETFROM:+0100
TZOFFSETTO:+0200
TZNAME:CEST
DTSTART:20170326T010000
END:DAYLIGHT
BEGIN:STANDARD
TZOFFSETFROM:+0200
TZOFFSETTO:+0100
TZNAME:CET
DTSTART:20171029T010000
END:STANDARD
END:VTIMEZONE
BEGIN:VEVENT
DTSTART;TZID="Europe/Paris":20170130T083000
DTEND;TZID="Europe/Paris":20170203T053000
DTSTAMP:20260419T212217
CREATED:20170113T091311Z
LAST-MODIFIED:20170113T095250Z
UID:25394-1485765000-1486099800@www.leisurecourses.net
SUMMARY:Modern Wooden Boat Building
DESCRIPTION:\nShape and fit glued clinker and cold moulded planks\, practice methods of strip planking and stitch and tape boat building. Learn the basics of scarfing (lengthening planking timbers) and lamination of timber components. Understand the theory of modern methods for setting up building moulds\, backbone arrangements and lining-off planks. \n\n \n
URL:https://www.leisurecourses.net/course/modern-wooden-boat-building-2/
LOCATION:Boat Building Academy\, Lyme Regis Marine Centre\, Monmouth Beach \, Lyme Regis\, Dorset\, DT7 3JN\, United Kingdom
CATEGORIES:Woodwork
ORGANIZER;CN="Boat%20Building%20Academy":MAILTO:office@boatbuildingacademy.com
END:VEVENT
END:VCALENDAR