BEGIN:VCALENDAR
VERSION:2.0
PRODID:-//LeisureCourses.net - short courses &amp; residential study breaks in great locations - ECPv4.9.6//NONSGML v1.0//EN
CALSCALE:GREGORIAN
METHOD:PUBLISH
X-WR-CALNAME:LeisureCourses.net - short courses &amp; residential study breaks in great locations
X-ORIGINAL-URL:https://www.leisurecourses.net
X-WR-CALDESC:Events for LeisureCourses.net - short courses &amp; residential study breaks in great locations
BEGIN:VTIMEZONE
TZID:"Europe/Paris"
BEGIN:DAYLIGHT
TZOFFSETFROM:+0100
TZOFFSETTO:+0200
TZNAME:CEST
DTSTART:20160327T010000
END:DAYLIGHT
BEGIN:STANDARD
TZOFFSETFROM:+0200
TZOFFSETTO:+0100
TZNAME:CET
DTSTART:20161030T010000
END:STANDARD
END:VTIMEZONE
BEGIN:VEVENT
DTSTART;TZID="Europe/Paris":20160805T190000
DTEND;TZID="Europe/Paris":20160807T140000
DTSTAMP:20260420T010557
CREATED:20160129T125437Z
LAST-MODIFIED:20160129T134831Z
UID:20366-1470423600-1470578400@www.leisurecourses.net
SUMMARY:Moving heaven and earth: Lancelot 'Capability' Brown 1716 - 2016
DESCRIPTION:\n2016 marks the tercentenary of the birth of ‘Capability’ Brown\, England’s Shakespeare of Gardening. The setting of Madingley Hall illustrates just one of his earth-moving projects. His inspirations as well as his engineering\, hydraulic\, architectural and artistic skills will be analysed through his major works. And still capable? This weekend conference will explore his ongoing relevance to landscape and water management. \n\n \n
URL:https://www.leisurecourses.net/course/moving-heaven-and-earth-lancelot-capability-brown-1716-2016/
LOCATION:Madingley Hall\, Madingley Hall\,\, Madingley\, Cambridgeshire\, CB23 8AQ\, United Kingdom
CATEGORIES:History
ORGANIZER;CN="University%20of%20Cambridge%20Institute%20of%20Continuing%20Education":MAILTO:enquiries@ice.cam.ac.uk
END:VEVENT
END:VCALENDAR