BEGIN:VCALENDAR
VERSION:2.0
PRODID:-//LeisureCourses.net - short courses &amp; residential study breaks in great locations - ECPv4.9.6//NONSGML v1.0//EN
CALSCALE:GREGORIAN
METHOD:PUBLISH
X-WR-CALNAME:LeisureCourses.net - short courses &amp; residential study breaks in great locations
X-ORIGINAL-URL:https://www.leisurecourses.net
X-WR-CALDESC:Events for LeisureCourses.net - short courses &amp; residential study breaks in great locations
BEGIN:VTIMEZONE
TZID:"Europe/Paris"
BEGIN:DAYLIGHT
TZOFFSETFROM:+0100
TZOFFSETTO:+0200
TZNAME:CEST
DTSTART:20160327T010000
END:DAYLIGHT
BEGIN:STANDARD
TZOFFSETFROM:+0200
TZOFFSETTO:+0100
TZNAME:CET
DTSTART:20161030T010000
END:STANDARD
END:VTIMEZONE
BEGIN:VEVENT
DTSTART;TZID="Europe/Paris":20160401T190000
DTEND;TZID="Europe/Paris":20160403T140000
DTSTAMP:20260420T104812
CREATED:20160129T125425Z
LAST-MODIFIED:20160129T163616Z
UID:20278-1459537200-1459692000@www.leisurecourses.net
SUMMARY:Music for the cinema: the neglected art
DESCRIPTION:\nWhat exactly does music do for films when we wouldn’t expect it in the theatre? Why is it no longer the force it once was? From the closing years of the silent era to close on a hundred years of ‘the talkies’\, we trace and analyse the role of music ‘in the film cast’ with the aid of many film excerpts and some brilliant music scores. Included are those for Citizen Kane\, Taxi Driver\, Schindler’s List\, Star Wars\, Vertigo\, King Kong\, High Noon and more. We honour the musical imaginations of composers such as Max Steiner\, John Williams\, Richard Rodney Bennett\, Bernard Herrmann\, Erich Korngold\, Vaughan Williams and Malcolm Arnold. \n\n \n
URL:https://www.leisurecourses.net/course/music-for-the-cinema-the-neglected-art/
LOCATION:Madingley Hall\, Madingley Hall\,\, Madingley\, Cambridgeshire\, CB23 8AQ\, United Kingdom
CATEGORIES:Music Appreciation
ORGANIZER;CN="University%20of%20Cambridge%20Institute%20of%20Continuing%20Education":MAILTO:enquiries@ice.cam.ac.uk
END:VEVENT
END:VCALENDAR