BEGIN:VCALENDAR
VERSION:2.0
PRODID:-//LeisureCourses.net - short courses &amp; residential study breaks in great locations - ECPv4.9.6//NONSGML v1.0//EN
CALSCALE:GREGORIAN
METHOD:PUBLISH
X-WR-CALNAME:LeisureCourses.net - short courses &amp; residential study breaks in great locations
X-ORIGINAL-URL:https://www.leisurecourses.net
X-WR-CALDESC:Events for LeisureCourses.net - short courses &amp; residential study breaks in great locations
BEGIN:VTIMEZONE
TZID:"Europe/Paris"
BEGIN:DAYLIGHT
TZOFFSETFROM:+0100
TZOFFSETTO:+0200
TZNAME:CEST
DTSTART:20150329T010000
END:DAYLIGHT
BEGIN:STANDARD
TZOFFSETFROM:+0200
TZOFFSETTO:+0100
TZNAME:CET
DTSTART:20151025T010000
END:STANDARD
END:VTIMEZONE
BEGIN:VEVENT
DTSTART;TZID="Europe/Paris":20150320T170000
DTEND;TZID="Europe/Paris":20150322T170000
DTSTAMP:20260419T203331
CREATED:20150213T100407Z
LAST-MODIFIED:20150214T171633Z
UID:11450-1426870800-1427043600@www.leisurecourses.net
SUMMARY:Music and medicine in the 19th century
DESCRIPTION:\n\nThis course explores the physicality and psychology of musical depictions of sickness\, health\, doctors and medicine on the operatic stage. It examines notions of the body – in particular\, those associated with ‘female’ illness\, including consumption\, hysteria and madness – and of the virtuoso musician as superhuman\, hypnotist\, or magician. \n\n\n \n\n \n
URL:https://www.leisurecourses.net/course/music-medicine-19th-century/
LOCATION:Madingley Hall\, Madingley Hall\,\, Madingley\, Cambridgeshire\, CB23 8AQ\, United Kingdom
CATEGORIES:History,Music
ORGANIZER;CN="University%20of%20Cambridge%20Institute%20of%20Continuing%20Education":MAILTO:enquiries@ice.cam.ac.uk
END:VEVENT
END:VCALENDAR