BEGIN:VCALENDAR
VERSION:2.0
PRODID:-//LeisureCourses.net - short courses &amp; residential study breaks in great locations - ECPv4.9.6//NONSGML v1.0//EN
CALSCALE:GREGORIAN
METHOD:PUBLISH
X-WR-CALNAME:LeisureCourses.net - short courses &amp; residential study breaks in great locations
X-ORIGINAL-URL:https://www.leisurecourses.net
X-WR-CALDESC:Events for LeisureCourses.net - short courses &amp; residential study breaks in great locations
BEGIN:VTIMEZONE
TZID:"Europe/Paris"
BEGIN:DAYLIGHT
TZOFFSETFROM:+0100
TZOFFSETTO:+0200
TZNAME:CEST
DTSTART:20140330T010000
END:DAYLIGHT
BEGIN:STANDARD
TZOFFSETFROM:+0200
TZOFFSETTO:+0100
TZNAME:CET
DTSTART:20141026T010000
END:STANDARD
END:VTIMEZONE
BEGIN:VEVENT
DTSTART;TZID="Europe/Paris":20140713T170000
DTEND;TZID="Europe/Paris":20140715T170000
DTSTAMP:20260420T042534
CREATED:20140611T093943Z
LAST-MODIFIED:20140611T093943Z
UID:6726-1405270800-1405443600@www.leisurecourses.net
SUMMARY:Music Workshop – Acoustic Instruments of Any Kind
DESCRIPTION:\nIf you’ve always wanted to play in a band or session and have never plucked up the courage to do so\, then here’s your opportunity. Our aim is to take the mystery out of what happens and help you enjoy playing with others. With tips on musical etiquette\, suggestions for arrangements and some popular tunes\, you’ll be joining in confidently by the end of the course. This course is designed mainly for players of the following instruments; guitar\, mandolin\, dobro\, banjo\, bass\, fiddle. Musicians with other instruments would be welcome\, subject to their contacting us about suitability. A free session is offered on Saturday\, but the tutors are happy to provide further material and input for those who wish to continue without a break. \n\n \n
URL:https://www.leisurecourses.net/course/music-workshop-acoustic-instruments-kind/
LOCATION:Dillington\, Dillington House\, Ilminster\, Somerset\, TA19 9DT\, United Kingdom
CATEGORIES:Music
ORGANIZER;CN="Dillington":MAILTO:dillington@somerset.gov.uk	
END:VEVENT
END:VCALENDAR