BEGIN:VCALENDAR
VERSION:2.0
PRODID:-//LeisureCourses.net - short courses &amp; residential study breaks in great locations - ECPv4.9.6//NONSGML v1.0//EN
CALSCALE:GREGORIAN
METHOD:PUBLISH
X-WR-CALNAME:LeisureCourses.net - short courses &amp; residential study breaks in great locations
X-ORIGINAL-URL:https://www.leisurecourses.net
X-WR-CALDESC:Events for LeisureCourses.net - short courses &amp; residential study breaks in great locations
BEGIN:VTIMEZONE
TZID:"Europe/Paris"
BEGIN:DAYLIGHT
TZOFFSETFROM:+0100
TZOFFSETTO:+0200
TZNAME:CEST
DTSTART:20160327T010000
END:DAYLIGHT
BEGIN:STANDARD
TZOFFSETFROM:+0200
TZOFFSETTO:+0100
TZNAME:CET
DTSTART:20161030T010000
END:STANDARD
END:VTIMEZONE
BEGIN:VEVENT
DTSTART;TZID="Europe/Paris":20160507T090000
DTEND;TZID="Europe/Paris":20160507T160000
DTSTAMP:20260420T012200
CREATED:20160218T160102Z
LAST-MODIFIED:20160219T105046Z
UID:20835-1462611600-1462636800@www.leisurecourses.net
SUMMARY:News From the Fronts: Focus on the Battle of Jutland
DESCRIPTION:\nWhile the Battle of Verdun ground on\, the Allies built up resources for major offensives on the Eastern Front under General Brusilov and a coordinated Anglo-French offensive astride the River Somme. At sea the German High Seas Fleet sought a conclusive engagement in the North Sea. Thus came about ‘Der Tag’ – the culmination of the Dreadnought Arms Race – fought off Jutland on 31 May 1916. \n\n \n
URL:https://www.leisurecourses.net/course/news-from-the-fronts-focus-on-the-battle-of-jutland/
LOCATION:Dillington\, Dillington House\, Ilminster\, Somerset\, TA19 9DT\, United Kingdom
CATEGORIES:History
ORGANIZER;CN="Dillington":MAILTO:dillington@somerset.gov.uk	
END:VEVENT
END:VCALENDAR