BEGIN:VCALENDAR
VERSION:2.0
PRODID:-//LeisureCourses.net - short courses &amp; residential study breaks in great locations - ECPv4.9.6//NONSGML v1.0//EN
CALSCALE:GREGORIAN
METHOD:PUBLISH
X-WR-CALNAME:LeisureCourses.net - short courses &amp; residential study breaks in great locations
X-ORIGINAL-URL:https://www.leisurecourses.net
X-WR-CALDESC:Events for LeisureCourses.net - short courses &amp; residential study breaks in great locations
BEGIN:VTIMEZONE
TZID:"Europe/Paris"
BEGIN:DAYLIGHT
TZOFFSETFROM:+0100
TZOFFSETTO:+0200
TZNAME:CEST
DTSTART:20160327T010000
END:DAYLIGHT
BEGIN:STANDARD
TZOFFSETFROM:+0200
TZOFFSETTO:+0100
TZNAME:CET
DTSTART:20161030T010000
END:STANDARD
END:VTIMEZONE
BEGIN:VEVENT
DTSTART;TZID="Europe/Paris":20160219T170000
DTEND;TZID="Europe/Paris":20160222T140000
DTSTAMP:20260420T062950
CREATED:20160218T155908Z
LAST-MODIFIED:20160219T124645Z
UID:20760-1455901200-1456149600@www.leisurecourses.net
SUMMARY:No Boundaries Accoustic Band Workshop Extra
DESCRIPTION:\nThis extended ‘No Boundaries’ acoustic band course is open to any acoustic instrument player. We’ve successfully catered for every combination so far\, including fretted and bowed stringed instruments\, saxophones\, clarinet\, piano\, flute and harmonica… what do you play? With a good social atmosphere\, exchanging ideas and learning from each other\, you will be encouraged to explore and improvise on wide-ranging material from Baroque to Blues via Folk and Jazz. Ear players\, clef and TAB readers welcome. Please advise your chosen instrument when booking. \n\n \n
URL:https://www.leisurecourses.net/course/no-boundaries-accoustic-band-workshop-extra-3/
LOCATION:Dillington\, Dillington House\, Ilminster\, Somerset\, TA19 9DT\, United Kingdom
CATEGORIES:Making Music
ORGANIZER;CN="Dillington":MAILTO:dillington@somerset.gov.uk	
END:VEVENT
END:VCALENDAR