BEGIN:VCALENDAR
VERSION:2.0
PRODID:-//LeisureCourses.net - short courses &amp; residential study breaks in great locations - ECPv4.9.6//NONSGML v1.0//EN
CALSCALE:GREGORIAN
METHOD:PUBLISH
X-WR-CALNAME:LeisureCourses.net - short courses &amp; residential study breaks in great locations
X-ORIGINAL-URL:https://www.leisurecourses.net
X-WR-CALDESC:Events for LeisureCourses.net - short courses &amp; residential study breaks in great locations
BEGIN:VTIMEZONE
TZID:"Europe/Paris"
BEGIN:DAYLIGHT
TZOFFSETFROM:+0100
TZOFFSETTO:+0200
TZNAME:CEST
DTSTART:20160327T010000
END:DAYLIGHT
BEGIN:STANDARD
TZOFFSETFROM:+0200
TZOFFSETTO:+0100
TZNAME:CET
DTSTART:20161030T010000
END:STANDARD
END:VTIMEZONE
BEGIN:VEVENT
DTSTART;TZID="Europe/Paris":20160410T100000
DTEND;TZID="Europe/Paris":20160410T164500
DTSTAMP:20260420T005840
CREATED:20160129T125426Z
LAST-MODIFIED:20160129T152452Z
UID:20289-1460282400-1460306700@www.leisurecourses.net
SUMMARY:One day\, one novel: Tess of the d'Urbervilles
DESCRIPTION:\nThis day school is part of the ‘One day\, one novel’ series for 2015-16. Each day school focuses on one novel and through a series of lecture and class discussions\, helps you to study the novel in great depth\, getting to know the author and the text as closely as possible. \n\n \n
URL:https://www.leisurecourses.net/course/one-day-one-novel-tess-of-the-durbervilles/
LOCATION:Madingley Hall\, Madingley Hall\,\, Madingley\, Cambridgeshire\, CB23 8AQ\, United Kingdom
CATEGORIES:Writing
ORGANIZER;CN="University%20of%20Cambridge%20Institute%20of%20Continuing%20Education":MAILTO:enquiries@ice.cam.ac.uk
END:VEVENT
END:VCALENDAR