BEGIN:VCALENDAR
VERSION:2.0
PRODID:-//LeisureCourses.net - short courses &amp; residential study breaks in great locations - ECPv4.9.6//NONSGML v1.0//EN
CALSCALE:GREGORIAN
METHOD:PUBLISH
X-WR-CALNAME:LeisureCourses.net - short courses &amp; residential study breaks in great locations
X-ORIGINAL-URL:https://www.leisurecourses.net
X-WR-CALDESC:Events for LeisureCourses.net - short courses &amp; residential study breaks in great locations
BEGIN:VTIMEZONE
TZID:"Europe/Paris"
BEGIN:DAYLIGHT
TZOFFSETFROM:+0100
TZOFFSETTO:+0200
TZNAME:CEST
DTSTART:20150329T010000
END:DAYLIGHT
BEGIN:STANDARD
TZOFFSETFROM:+0200
TZOFFSETTO:+0100
TZNAME:CET
DTSTART:20151025T010000
END:STANDARD
END:VTIMEZONE
BEGIN:VEVENT
DTSTART;TZID="Europe/Paris":20150417T140000
DTEND;TZID="Europe/Paris":20150419T160000
DTSTAMP:20260420T125800
CREATED:20150214T093919Z
LAST-MODIFIED:20150214T094730Z
UID:11489-1429279200-1429459200@www.leisurecourses.net
SUMMARY:Painted Furniture Workshop: Annie Sloan™ Decorative Paint Techniques
DESCRIPTION:\nThis furniture painting workshop with Kate Gerrish & Bliss Interiors is a fantastic opportunity to learn a wide variety of decorative paint finishes including distressing\, use of two colours\, ageing\, smooth modern or more rustic looks. \n \n© Annie Sloan™ Chalk Paints \n\nThere will be tutorials on gilding with silver\, gold or copper leaf\, crackle glazing\, decoupage and stencilling\, techniques you may want to incorporate on your pieces. All Chalk Paint® and materials provided – just bring one or two small pieces of furniture to transform in a style to suit your home! \nAnnie Sloan invented her Chalk Paint™ over 20 years ago. It is a unique recipe that beautifully transforms any surface with no priming or sanding necessary (yes really!) It can be applied to wood\, metal\, walls concrete and plastic. \n  \n  \n  \n\n \n
URL:https://www.leisurecourses.net/course/painted-furniture-workshop-annie-sloan-decorative-paint-techniques/
LOCATION:Farncombe Estate\, Broadway\, Worcestershire\, WR12 7LJ\, United Kingdom
CATEGORIES:Painting and Drawing
ORGANIZER;CN="Farncombe%20Courses":MAILTO:enquiries@farncombeestate.co.uk
END:VEVENT
END:VCALENDAR