BEGIN:VCALENDAR
VERSION:2.0
PRODID:-//LeisureCourses.net - short courses &amp; residential study breaks in great locations - ECPv4.9.6//NONSGML v1.0//EN
CALSCALE:GREGORIAN
METHOD:PUBLISH
X-WR-CALNAME:LeisureCourses.net - short courses &amp; residential study breaks in great locations
X-ORIGINAL-URL:https://www.leisurecourses.net
X-WR-CALDESC:Events for LeisureCourses.net - short courses &amp; residential study breaks in great locations
BEGIN:VTIMEZONE

END:VTIMEZONE
BEGIN:VEVENT
DTSTART;TZID="Europe/Paris":19700101T000000
DTEND;TZID="Europe/Paris":19700101T000000
DTSTAMP:20260420T091709
CREATED:20150215T131938Z
LAST-MODIFIED:20150215T133815Z
UID:12263-0-0@www.leisurecourses.net
SUMMARY:Picture It in Collage and Stitch with Richard Box
DESCRIPTION:\nDo you want to create one of your own designs and translate it into a picture using the combined techniques of fabric collage and both machine and hand embroidery? Then this is your course! Some experience using a darning foot is necessary. \n\n \n
URL:https://www.leisurecourses.net/course/picture-it-in-collage-and-stitch-with-richard-box-3/
LOCATION:Denman\, Denman \, Abingdon\, Oxfordshire\, OX13 6NW\, United Kingdom
CATEGORIES:Crafts
ORGANIZER;CN="Denman":MAILTO:info@denman.org.uk
END:VEVENT
END:VCALENDAR