BEGIN:VCALENDAR
VERSION:2.0
PRODID:-//LeisureCourses.net - short courses &amp; residential study breaks in great locations - ECPv4.9.6//NONSGML v1.0//EN
CALSCALE:GREGORIAN
METHOD:PUBLISH
X-WR-CALNAME:LeisureCourses.net - short courses &amp; residential study breaks in great locations
X-ORIGINAL-URL:https://www.leisurecourses.net
X-WR-CALDESC:Events for LeisureCourses.net - short courses &amp; residential study breaks in great locations
BEGIN:VTIMEZONE
TZID:"Europe/Paris"
BEGIN:DAYLIGHT
TZOFFSETFROM:+0100
TZOFFSETTO:+0200
TZNAME:CEST
DTSTART:20140330T010000
END:DAYLIGHT
BEGIN:STANDARD
TZOFFSETFROM:+0200
TZOFFSETTO:+0100
TZNAME:CET
DTSTART:20141026T010000
END:STANDARD
END:VTIMEZONE
BEGIN:VEVENT
DTSTART;TZID="Europe/Paris":20140129T173000
DTEND;TZID="Europe/Paris":20140131T153000
DTSTAMP:20260420T161048
CREATED:20131221T111629Z
LAST-MODIFIED:20131221T111629Z
UID:5980-1391016600-1391182200@www.leisurecourses.net
SUMMARY:Pilates – Strong to the Core
DESCRIPTION:\nThis short course is aimed at developing the skills and understanding necessary to practice the Pilates method effectively and safely.  The afternoon sessions will include routines to help students relax deeply.  Students will learn the importance of posture (neutral and imprint)\, Pilates breathing\, the foundation mat exercises\, use of small equipment and simple practices for common muscular skeletal. \n\n \n
URL:https://www.leisurecourses.net/course/pilates-strong-core/
LOCATION:Knuston Hall\, Knuston Hall \, Irchester\, Wellingborough \, Northamptonshire \, NN29 7EU\, United Kingdom
CATEGORIES:Fitness & Wellbeing
ORGANIZER;CN="Knuston%20Hall":MAILTO:enquiries@knustonhall.org.uk
END:VEVENT
END:VCALENDAR