BEGIN:VCALENDAR
VERSION:2.0
PRODID:-//LeisureCourses.net - short courses &amp; residential study breaks in great locations - ECPv4.9.6//NONSGML v1.0//EN
CALSCALE:GREGORIAN
METHOD:PUBLISH
X-WR-CALNAME:LeisureCourses.net - short courses &amp; residential study breaks in great locations
X-ORIGINAL-URL:https://www.leisurecourses.net
X-WR-CALDESC:Events for LeisureCourses.net - short courses &amp; residential study breaks in great locations
BEGIN:VTIMEZONE
TZID:"Europe/Paris"
BEGIN:DAYLIGHT
TZOFFSETFROM:+0100
TZOFFSETTO:+0200
TZNAME:CEST
DTSTART:20160327T010000
END:DAYLIGHT
BEGIN:STANDARD
TZOFFSETFROM:+0200
TZOFFSETTO:+0100
TZNAME:CET
DTSTART:20161030T010000
END:STANDARD
END:VTIMEZONE
BEGIN:VEVENT
DTSTART;TZID="Europe/Paris":20160507T100000
DTEND;TZID="Europe/Paris":20160507T170000
DTSTAMP:20260420T132348
CREATED:20160108T111247Z
LAST-MODIFIED:20160108T143816Z
UID:19717-1462615200-1462640400@www.leisurecourses.net
SUMMARY:Portrait Drawing in Charcoal
DESCRIPTION:\nWork alongside award-winning portrait artist Peter Keegan on this day course where you will capture unique portrait subjects in charcoal. Using photographs provided by the tutor\, or ones you bring with you\, you will explore a range of techniques including beginning a drawing\, capturing tonal values\, facial details and ultimately a likeness. \n\n \n
URL:https://www.leisurecourses.net/course/portrait-drawing-in-charcoal-2/
LOCATION:Missenden Abbey\, Great Missenden\, Buckinghamshire\, HP16 0BD\, United Kingdom
CATEGORIES:Painting
ORGANIZER;CN="Buckinghamshire%20Adult%20Learning":MAILTO:dcevreham@buckscc.gov.uk
END:VEVENT
END:VCALENDAR