BEGIN:VCALENDAR
VERSION:2.0
PRODID:-//LeisureCourses.net - short courses &amp; residential study breaks in great locations - ECPv4.9.6//NONSGML v1.0//EN
CALSCALE:GREGORIAN
METHOD:PUBLISH
X-WR-CALNAME:LeisureCourses.net - short courses &amp; residential study breaks in great locations
X-ORIGINAL-URL:https://www.leisurecourses.net
X-WR-CALDESC:Events for LeisureCourses.net - short courses &amp; residential study breaks in great locations
BEGIN:VTIMEZONE
TZID:"Europe/Paris"
BEGIN:DAYLIGHT
TZOFFSETFROM:+0100
TZOFFSETTO:+0200
TZNAME:CEST
DTSTART:20160327T010000
END:DAYLIGHT
BEGIN:STANDARD
TZOFFSETFROM:+0200
TZOFFSETTO:+0100
TZNAME:CET
DTSTART:20161030T010000
END:STANDARD
END:VTIMEZONE
BEGIN:VEVENT
DTSTART;TZID="Europe/Paris":20160808T090000
DTEND;TZID="Europe/Paris":20160812T160000
DTSTAMP:20260420T010527
CREATED:20160218T160112Z
LAST-MODIFIED:20160219T093337Z
UID:20888-1470646800-1471017600@www.leisurecourses.net
SUMMARY:Private Houses & Gardens of Devon\, Somerset & Dorset
DESCRIPTION:\nDespite the large number of Houses and Gardens\, which open their doors to the public (over 1500 in the UK)\, there are over twice this number\, which are rarely\, if ever\, open to the general public. As with last year’s programme\, which was dedicated solely to the private houses and gardens of Devon\, this year sees a number of houses from both Somerset and Dorset\, being added to a further group from Devon. Over five days we will visit a range of stunning properties and gardens spanning over five hundred years of architectural and garden design history. The course will start with an introductory overview lecture of aspects of the development of houses and gardens of the West Country after which we will depart with a delicious packed lunch for the first of our visits.\nThere will be a supplement of £135 for this course towards the cost of transport and entrance fees. \n\n \n
URL:https://www.leisurecourses.net/course/private-houses-gardens-of-devon-somerset-dorset/
LOCATION:Dillington\, Dillington House\, Ilminster\, Somerset\, TA19 9DT\, United Kingdom
CATEGORIES:History
ORGANIZER;CN="Dillington":MAILTO:dillington@somerset.gov.uk	
END:VEVENT
END:VCALENDAR