BEGIN:VCALENDAR
VERSION:2.0
PRODID:-//LeisureCourses.net - short courses &amp; residential study breaks in great locations - ECPv4.9.6//NONSGML v1.0//EN
CALSCALE:GREGORIAN
METHOD:PUBLISH
X-WR-CALNAME:LeisureCourses.net - short courses &amp; residential study breaks in great locations
X-ORIGINAL-URL:https://www.leisurecourses.net
X-WR-CALDESC:Events for LeisureCourses.net - short courses &amp; residential study breaks in great locations
BEGIN:VTIMEZONE
TZID:"Europe/Paris"
BEGIN:DAYLIGHT
TZOFFSETFROM:+0100
TZOFFSETTO:+0200
TZNAME:CEST
DTSTART:20130331T010000
END:DAYLIGHT
BEGIN:STANDARD
TZOFFSETFROM:+0200
TZOFFSETTO:+0100
TZNAME:CET
DTSTART:20131027T010000
END:STANDARD
END:VTIMEZONE
BEGIN:VEVENT
DTSTART;TZID="Europe/Paris":20131209T190000
DTEND;TZID="Europe/Paris":20131212T160000
DTSTAMP:20260420T085730
CREATED:20131009T101652Z
LAST-MODIFIED:20150214T152415Z
UID:5387-1386615600-1386864000@www.leisurecourses.net
SUMMARY:Quintessential Clarinets
DESCRIPTION:\nShea Lolin’s course\, which carefully caters for a wide ability range\, aims to develop your solo and ensemble playing both by working through the pieces you bring along and by presenting you with fresh challenges. You will have the chance to work with the course pianist individually on pieces you have previously prepared\, and should you want to share your performance with the group then you can\, in a supportive\, informal ambience. All areas of performance\, including stagecraft and coping with nerves\, will be addressed\, and we’ll also look at practice\, rehearsal and sight reading techniques\, issues common at all levels of playing. \n\n \n
URL:https://www.leisurecourses.net/course/quintessential-clarinets/
LOCATION:Benslow\,  Ibberson Way\, Hitchin\, Hertfordshire\, SG4 9RB\, United Kingdom
CATEGORIES:Music
ORGANIZER;CN="Benslow":MAILTO:vicky@benslowmusic.org
END:VEVENT
END:VCALENDAR