BEGIN:VCALENDAR
VERSION:2.0
PRODID:-//LeisureCourses.net - short courses &amp; residential study breaks in great locations - ECPv4.9.6//NONSGML v1.0//EN
CALSCALE:GREGORIAN
METHOD:PUBLISH
X-WR-CALNAME:LeisureCourses.net - short courses &amp; residential study breaks in great locations
X-ORIGINAL-URL:https://www.leisurecourses.net
X-WR-CALDESC:Events for LeisureCourses.net - short courses &amp; residential study breaks in great locations
BEGIN:VTIMEZONE
TZID:"Europe/Paris"
BEGIN:DAYLIGHT
TZOFFSETFROM:+0100
TZOFFSETTO:+0200
TZNAME:CEST
DTSTART:20160327T010000
END:DAYLIGHT
BEGIN:STANDARD
TZOFFSETFROM:+0200
TZOFFSETTO:+0100
TZNAME:CET
DTSTART:20161030T010000
END:STANDARD
END:VTIMEZONE
BEGIN:VEVENT
DTSTART;TZID="Europe/Paris":20160729T190000
DTEND;TZID="Europe/Paris":20160731T153000
DTSTAMP:20260420T120205
CREATED:20160307T143319Z
LAST-MODIFIED:20160307T165359Z
UID:21314-1469818800-1469979000@www.leisurecourses.net
SUMMARY:Ruskin Lace for All
DESCRIPTION:\nRuskin Lace is a form of lace which originated as a cottage industry in the Lake District and has its own distinctive style. It is worked on Linen fabric with linen thread\, and uses a combination of drawn thread and cut linen work before geometric designs are created using needlepoint lace techniques. \nThe course is suitable for both beginners\, who can purchase a starter pack from the tutor (£10)\, or for those with more experience. \n\n \n
URL:https://www.leisurecourses.net/course/ruskin-lace-for-all/
LOCATION:Knuston Hall\, Knuston Hall \, Irchester\, Wellingborough \, Northamptonshire \, NN29 7EU\, United Kingdom
CATEGORIES:Crafts
ORGANIZER;CN="Knuston%20Hall":MAILTO:enquiries@knustonhall.org.uk
END:VEVENT
END:VCALENDAR