BEGIN:VCALENDAR
VERSION:2.0
PRODID:-//LeisureCourses.net - short courses &amp; residential study breaks in great locations - ECPv4.9.6//NONSGML v1.0//EN
CALSCALE:GREGORIAN
METHOD:PUBLISH
X-WR-CALNAME:LeisureCourses.net - short courses &amp; residential study breaks in great locations
X-ORIGINAL-URL:https://www.leisurecourses.net
X-WR-CALDESC:Events for LeisureCourses.net - short courses &amp; residential study breaks in great locations
BEGIN:VTIMEZONE
TZID:"Europe/Paris"
BEGIN:DAYLIGHT
TZOFFSETFROM:+0100
TZOFFSETTO:+0200
TZNAME:CEST
DTSTART:20170326T010000
END:DAYLIGHT
BEGIN:STANDARD
TZOFFSETFROM:+0200
TZOFFSETTO:+0100
TZNAME:CET
DTSTART:20171029T010000
END:STANDARD
END:VTIMEZONE
BEGIN:VEVENT
DTSTART;TZID="Europe/Paris":20171006T170000
DTEND;TZID="Europe/Paris":20171008T140000
DTSTAMP:20260421T120450
CREATED:20150624T065127Z
LAST-MODIFIED:20161214T101735Z
UID:15851-1507309200-1507471200@www.leisurecourses.net
SUMMARY:Sacred songs to soothe the soul
DESCRIPTION:\nA weekend of glorious harmony singing in the midst of autumn splendour. Enliven your spirit with a feast of harmonies and learn songs from a range of cultures and traditions spanning the globe\, all in a wonderful Derbyshire setting. \nFrom £190 per person. Book online here: chrisrowbury.com \nWillersley Castle was commissioned by Sir Richard Arkwright\, the great industrialist\, in the 1790s. Many of the original features can still be seen today. The Castle overlooks the  Derwent Valley world Heritage site with plenty of excellent walks in the area. The main hotel has 30 bedrooms\, extensive grounds and a heated indoor swimming pool. You can go on a virtual tour of the hotel\, rooms and grounds on the Willersley Castle website. \nThe majority of rooms are en suite\, but there are a few\, cheaper non-ensuite rooms available (please enquire for more information). Some of the superior rooms have fantastic views over the Derwent Valley. All the bedrooms at Willersley Castle include tea and coffee making facilities and a hairdryer. There is also a lift in the castle serving both first and second floor bedrooms. \nExperience the ancient art of unaccompanied sacred singing\, used by people throughout the world to bring joy\, healing and inspiration to their lives. Enliven your spirit with a feast of harmonies and learn songs from a range of cultures spanning the globe. \nSacred Song encompasses an amazing mix of musical diversity: from the Black gospel church and the slave plantations of rural Southern USA\, to Jewish Sephardic singing from Spain; from South African protest songs to New Zealand Maori hymns; from Corsican polyphony to the lush harmonies of the Russian Orthodox church; from the chants of the Taize community to medieval plainsong; from the Georgian church to the Shaker community; and much more in between. We will learn several songs from some of these different traditions\, all especially arranged for voice in unaccompanied harmony. \nThe weekend will draw on songs from a wide range of sources from across the globe. Singing sessions will consist of warm-ups\, simple songs that bring instant rewards and also more complex songs in several parts that offer the rewarding challenges. There will also be opportunities to explore the local area and soak up the autumn colours. \nThis weekend is open to all whether you just sing in the bath\, or perform in public. All songs have been carefully chosen and arranged for voice only\, and will be taught by ear. No previous experience needed\, just bring your vocal cords and your enthusiasm! Whether you’ve only ever sung in the shower\, or you’re already in a choir\, there will be something here for everyone – all in a fun\, friendly and relaxed atmosphere. \nBook online here: chrisrowbury.com \n\n \n
URL:https://www.leisurecourses.net/course/sacred-songs-to-soothe-the-soul/
LOCATION:Willersley Castle Hotel\, Matlock\, Derbyshire\, DE4 5JH \, United Kingdom
CATEGORIES:Music,Singing
ATTACH;FMTTYPE=image/jpeg:https://www.leisurecourses.net/wp-content/uploads/Cromford-Derbyshire-18.jpg
ORGANIZER;CN="Chris%20Rowbury":MAILTO:chris@chrisrowbury.com
END:VEVENT
END:VCALENDAR