BEGIN:VCALENDAR
VERSION:2.0
PRODID:-//LeisureCourses.net - short courses &amp; residential study breaks in great locations - ECPv4.9.6//NONSGML v1.0//EN
CALSCALE:GREGORIAN
METHOD:PUBLISH
X-WR-CALNAME:LeisureCourses.net - short courses &amp; residential study breaks in great locations
X-ORIGINAL-URL:https://www.leisurecourses.net
X-WR-CALDESC:Events for LeisureCourses.net - short courses &amp; residential study breaks in great locations
BEGIN:VTIMEZONE
TZID:"Europe/Paris"
BEGIN:DAYLIGHT
TZOFFSETFROM:+0100
TZOFFSETTO:+0200
TZNAME:CEST
DTSTART:20160327T010000
END:DAYLIGHT
BEGIN:STANDARD
TZOFFSETFROM:+0200
TZOFFSETTO:+0100
TZNAME:CET
DTSTART:20161030T010000
END:STANDARD
END:VTIMEZONE
BEGIN:VEVENT
DTSTART;TZID="Europe/Paris":20160805T190000
DTEND;TZID="Europe/Paris":20160807T153000
DTSTAMP:20260420T111850
CREATED:20160307T143320Z
LAST-MODIFIED:20160307T164304Z
UID:21323-1470423600-1470583800@www.leisurecourses.net
SUMMARY:Saxophone Weekend
DESCRIPTION:\nThis highly popular course will provide continual teaching and guidance through participation in ensembles of various sizes.  Groups are changed for every session and participants can expect to play in ensembles ranging from trios to massed sax groups. Players will be grouped with those of similar ability.  A vast library of music will be available throughout the course.  A diversity of music styles and genres will be offered. Experience in sight-reading is recommended and previous ensemble will be advantageous. \n\n \n
URL:https://www.leisurecourses.net/course/saxophone-weekend/
LOCATION:Knuston Hall\, Knuston Hall \, Irchester\, Wellingborough \, Northamptonshire \, NN29 7EU\, United Kingdom
CATEGORIES:Making Music
ORGANIZER;CN="Knuston%20Hall":MAILTO:enquiries@knustonhall.org.uk
END:VEVENT
END:VCALENDAR