BEGIN:VCALENDAR
VERSION:2.0
PRODID:-//LeisureCourses.net - short courses &amp; residential study breaks in great locations - ECPv4.9.6//NONSGML v1.0//EN
CALSCALE:GREGORIAN
METHOD:PUBLISH
X-WR-CALNAME:LeisureCourses.net - short courses &amp; residential study breaks in great locations
X-ORIGINAL-URL:https://www.leisurecourses.net
X-WR-CALDESC:Events for LeisureCourses.net - short courses &amp; residential study breaks in great locations
BEGIN:VTIMEZONE
TZID:"Europe/Paris"
BEGIN:DAYLIGHT
TZOFFSETFROM:+0100
TZOFFSETTO:+0200
TZNAME:CEST
DTSTART:20160327T010000
END:DAYLIGHT
BEGIN:STANDARD
TZOFFSETFROM:+0200
TZOFFSETTO:+0100
TZNAME:CET
DTSTART:20161030T010000
END:STANDARD
END:VTIMEZONE
BEGIN:VEVENT
DTSTART;TZID="Europe/Paris":20160603T170000
DTEND;TZID="Europe/Paris":20160605T151500
DTSTAMP:20260421T101634
CREATED:20160114T091243Z
LAST-MODIFIED:20160114T091243Z
UID:20031-1464973200-1465139700@www.leisurecourses.net
SUMMARY:The Four Seasons in Music and Painting
DESCRIPTION:\nOur weekend will explore the inspiration painters and composers have drawn from the seasons of the year. The featured artists will include Botticelli\, Breughel the Elder\, Monet\, Turner and Friedrich\, while there will be music by Vivaldi\, Haydn\, Delius\, Tchaikovsky and others. \nAbingworth Hall occupies a country estate that dates back some seven centuries and stands beside its own lake in seven acres of parkland within the tranquil Weald. The hotel is well appointed with more than twenty en suite bedrooms. \nTerry Barfoot writes widely on music for Britain’s leading journals\, orchestras\, festivals and record companies. He lectures at Oxford University and venues throughout the country\, is Publications Consultant to the Bournemouth Symphony Orchestra and the Director of Arts in Residence. \nTim Gwyther is an experienced art historian and practising artist who has exhibited widely both in London and the regions. He has taken part in several Arts in Residence events. \nWe will meet on Friday afternoon at 5pm and depart on Sunday afternoon. Arts in Residence and Abingworth Hall offer an excellent cuisine including dinners with wine and a traditional Sunday lunch. \n\n \n
URL:https://www.leisurecourses.net/course/seasons-music-painting/
LOCATION:Abingworth Hall Hotel\, Storrington Rd\, Storrington\, West Sussex\, RH20 3EF\, United Kingdom
CATEGORIES:Art History,Music
ORGANIZER;CN="Arts%20in%20Residence":MAILTO:info@artsinresidence.co.uk
END:VEVENT
END:VCALENDAR