BEGIN:VCALENDAR
VERSION:2.0
PRODID:-//LeisureCourses.net - short courses &amp; residential study breaks in great locations - ECPv4.9.6//NONSGML v1.0//EN
CALSCALE:GREGORIAN
METHOD:PUBLISH
X-WR-CALNAME:LeisureCourses.net - short courses &amp; residential study breaks in great locations
X-ORIGINAL-URL:https://www.leisurecourses.net
X-WR-CALDESC:Events for LeisureCourses.net - short courses &amp; residential study breaks in great locations
BEGIN:VTIMEZONE
TZID:"Europe/Paris"
BEGIN:DAYLIGHT
TZOFFSETFROM:+0100
TZOFFSETTO:+0200
TZNAME:CEST
DTSTART:20160327T010000
END:DAYLIGHT
BEGIN:STANDARD
TZOFFSETFROM:+0200
TZOFFSETTO:+0100
TZNAME:CET
DTSTART:20161030T010000
END:STANDARD
END:VTIMEZONE
BEGIN:VEVENT
DTSTART;TZID="Europe/Paris":20161028T190000
DTEND;TZID="Europe/Paris":20161030T150000
DTSTAMP:20260420T115710
CREATED:20160417T095452Z
LAST-MODIFIED:20160419T103413Z
UID:22158-1477681200-1477839600@www.leisurecourses.net
SUMMARY:Silken Soutache Braid textile weekend course
DESCRIPTION:\nDiscover the sensational sewn craft of Soutache which integrates silken braid\, cabouchons\, beads and other decorations to create stunning wearable embellished pieces. \nSoutache is an elaborate textile craft dating from the 15th century. Seamstresses used a dual corded silken braid integrating sparkling cabouchons\, pearls and crystals to embellish and trim the luxurious clothes of the wealthy\, rich and famous. Today Soutache is seen as the decorative braid in the dress uniforms of service personal. \nNo matter whether this craft is new to you\, or you have ventured into the wonderful world of Soutache before\, here is your opportunity to develop your skills.  You will produce a spectacular decorative piece\, while you relax for a couple of days\, meeting like-minded people and making friends. And you will leave with your own original example of this highly creative craft. \n\n \n
URL:https://www.leisurecourses.net/course/silken-soutache-braid-textile-weekend/
LOCATION:Crowne Plaza\, Crawley\, West Sussex\, RH11 7SX\, United Kingdom
CATEGORIES:Crafts
ORGANIZER;CN="Anglia%20Leisure%20Learning":MAILTO:info@anglialeisurelearning.co.uk
END:VEVENT
END:VCALENDAR