BEGIN:VCALENDAR
VERSION:2.0
PRODID:-//LeisureCourses.net - short courses &amp; residential study breaks in great locations - ECPv4.9.6//NONSGML v1.0//EN
CALSCALE:GREGORIAN
METHOD:PUBLISH
X-WR-CALNAME:LeisureCourses.net - short courses &amp; residential study breaks in great locations
X-ORIGINAL-URL:https://www.leisurecourses.net
X-WR-CALDESC:Events for LeisureCourses.net - short courses &amp; residential study breaks in great locations
BEGIN:VTIMEZONE
TZID:"Europe/Paris"
BEGIN:DAYLIGHT
TZOFFSETFROM:+0100
TZOFFSETTO:+0200
TZNAME:CEST
DTSTART:20130331T010000
END:DAYLIGHT
BEGIN:STANDARD
TZOFFSETFROM:+0200
TZOFFSETTO:+0100
TZNAME:CET
DTSTART:20131027T010000
END:STANDARD
END:VTIMEZONE
BEGIN:VEVENT
DTSTART;VALUE=DATE:20130707
DTEND;VALUE=DATE:20130708
DTSTAMP:20260420T103319
CREATED:20130601T085634Z
LAST-MODIFIED:20131009T135440Z
UID:2095-1373155200-1373241599@www.leisurecourses.net
SUMMARY:Soil\, Soul and Society
DESCRIPTION:\nSatish Kumar\, a former monk and long-term peace and environment activist\, invites us to consider and reflect upon how our reverence for the earth\, care of the soul and a just order in society represent a trinity of sustainability\, spirituality and justice. \nContinuing on from the themes of SEED Festival: Planting Big Ideas on 6th July.www.seedfestival.co.uk \n  \n\n \n
URL:https://www.leisurecourses.net/course/soil-soul-society/
LOCATION:Hawkwood College\, Painswick Old Road \, Stroud \, Gloucestershire\, GL6 7QW\, United Kingdom
CATEGORIES:Natural History & Science
ATTACH;FMTTYPE=image/jpeg:https://www.leisurecourses.net/wp-content/uploads/meditation-hut.jpg
ORGANIZER;CN="Hawkwood%20College":MAILTO:info@hawkwoodcollege.co.uk
END:VEVENT
END:VCALENDAR