BEGIN:VCALENDAR
VERSION:2.0
PRODID:-//LeisureCourses.net - short courses &amp; residential study breaks in great locations - ECPv4.9.6//NONSGML v1.0//EN
CALSCALE:GREGORIAN
METHOD:PUBLISH
X-WR-CALNAME:LeisureCourses.net - short courses &amp; residential study breaks in great locations
X-ORIGINAL-URL:https://www.leisurecourses.net
X-WR-CALDESC:Events for LeisureCourses.net - short courses &amp; residential study breaks in great locations
BEGIN:VTIMEZONE
TZID:"Europe/Paris"
BEGIN:DAYLIGHT
TZOFFSETFROM:+0100
TZOFFSETTO:+0200
TZNAME:CEST
DTSTART:20160327T010000
END:DAYLIGHT
BEGIN:STANDARD
TZOFFSETFROM:+0200
TZOFFSETTO:+0100
TZNAME:CET
DTSTART:20161030T010000
END:STANDARD
END:VTIMEZONE
BEGIN:VEVENT
DTSTART;TZID="Europe/Paris":20160429T190000
DTEND;TZID="Europe/Paris":20160501T153000
DTSTAMP:20260420T124803
CREATED:20160307T143306Z
LAST-MODIFIED:20160309T131003Z
UID:21226-1461956400-1462116600@www.leisurecourses.net
SUMMARY:Spin Wool & Alpaca Yarn
DESCRIPTION:\nBe inspired; Spin your own yarn for knitting weaving and crochet using fine wool\, fleece and alpaca during a really satisfying and eco-friendly weekend. All wheels\, fleece\, fibre and equipment included and no previous experience necessary. Use traditional wheel\, drop spindle or e-spinner and make at least one skein\, probably more. Use a unique luxury yarn. Learn: long draw\, wheel maintenance\, colour theory\, fibre preparation\, yarn structure and how to use specialist equipment. Discover your creativity with lots of help and encouragement.   \n*Materials supplement of £10.00. \n\n \n
URL:https://www.leisurecourses.net/course/spin-wool-alpaca-yarn/
LOCATION:Knuston Hall\, Knuston Hall \, Irchester\, Wellingborough \, Northamptonshire \, NN29 7EU\, United Kingdom
CATEGORIES:Crafts
ORGANIZER;CN="Knuston%20Hall":MAILTO:enquiries@knustonhall.org.uk
END:VEVENT
END:VCALENDAR