BEGIN:VCALENDAR
VERSION:2.0
PRODID:-//LeisureCourses.net - short courses &amp; residential study breaks in great locations - ECPv4.9.6//NONSGML v1.0//EN
CALSCALE:GREGORIAN
METHOD:PUBLISH
X-WR-CALNAME:LeisureCourses.net - short courses &amp; residential study breaks in great locations
X-ORIGINAL-URL:https://www.leisurecourses.net
X-WR-CALDESC:Events for LeisureCourses.net - short courses &amp; residential study breaks in great locations
BEGIN:VTIMEZONE
TZID:"Europe/Paris"
BEGIN:DAYLIGHT
TZOFFSETFROM:+0100
TZOFFSETTO:+0200
TZNAME:CEST
DTSTART:20160327T010000
END:DAYLIGHT
BEGIN:STANDARD
TZOFFSETFROM:+0200
TZOFFSETTO:+0100
TZNAME:CET
DTSTART:20161030T010000
END:STANDARD
END:VTIMEZONE
BEGIN:VEVENT
DTSTART;TZID="Europe/Paris":20160830T150000
DTEND;TZID="Europe/Paris":20160901T140000
DTSTAMP:20260419T233136
CREATED:20160218T160115Z
LAST-MODIFIED:20160219T084944Z
UID:20915-1472569200-1472738400@www.leisurecourses.net
SUMMARY:Stumpwork Pansies & Violas
DESCRIPTION:\nInspiration for this course comes from the beautiful costumes and books of Elizabeth I\, where the emblem of the pansy and viola was widely used. Raised work techniques work extremely well for these lovely flowers\, which come in a wealth of colour combinations. Try something new and learn how you can incorporate real flowers in your embroidery. This course is suitable for all abilities. \n\n \n
URL:https://www.leisurecourses.net/course/stumpwork-pansies-violas/
LOCATION:Dillington\, Dillington House\, Ilminster\, Somerset\, TA19 9DT\, United Kingdom
CATEGORIES:Crafts
ORGANIZER;CN="Dillington":MAILTO:dillington@somerset.gov.uk	
END:VEVENT
END:VCALENDAR