BEGIN:VCALENDAR
VERSION:2.0
PRODID:-//LeisureCourses.net - short courses &amp; residential study breaks in great locations - ECPv4.9.6//NONSGML v1.0//EN
CALSCALE:GREGORIAN
METHOD:PUBLISH
X-WR-CALNAME:LeisureCourses.net - short courses &amp; residential study breaks in great locations
X-ORIGINAL-URL:https://www.leisurecourses.net
X-WR-CALDESC:Events for LeisureCourses.net - short courses &amp; residential study breaks in great locations
BEGIN:VTIMEZONE
TZID:"Europe/Paris"
BEGIN:DAYLIGHT
TZOFFSETFROM:+0100
TZOFFSETTO:+0200
TZNAME:CEST
DTSTART:20160327T010000
END:DAYLIGHT
BEGIN:STANDARD
TZOFFSETFROM:+0200
TZOFFSETTO:+0100
TZNAME:CET
DTSTART:20161030T010000
END:STANDARD
END:VTIMEZONE
BEGIN:VEVENT
DTSTART;TZID="Europe/Paris":20160318T190000
DTEND;TZID="Europe/Paris":20160320T140000
DTSTAMP:20260420T024520
CREATED:20160129T125424Z
LAST-MODIFIED:20160129T164139Z
UID:20271-1458327600-1458482400@www.leisurecourses.net
SUMMARY:Sustainable Development Goals: what difference will they make to international development?
DESCRIPTION:\nWe are at the cusp of significant changes in both thinking and delivering ‘international assistance’ as a result of the new set of targets known as the Sustainable Development Goals. With reference to case studies\, this course explores the consequences of the changes ahead by looking in turn at the criteria and targets set for each goal\, what they mean for policy makers\, and for individual countries how the successes and failures of the new targets are determined. \n\n \n
URL:https://www.leisurecourses.net/course/sustainable-development-goals-what-difference-will-they-make-to-international-development/
LOCATION:Madingley Hall\, Madingley Hall\,\, Madingley\, Cambridgeshire\, CB23 8AQ\, United Kingdom
CATEGORIES:Other
ORGANIZER;CN="University%20of%20Cambridge%20Institute%20of%20Continuing%20Education":MAILTO:enquiries@ice.cam.ac.uk
END:VEVENT
END:VCALENDAR