BEGIN:VCALENDAR
VERSION:2.0
PRODID:-//LeisureCourses.net - short courses &amp; residential study breaks in great locations - ECPv4.9.6//NONSGML v1.0//EN
CALSCALE:GREGORIAN
METHOD:PUBLISH
X-WR-CALNAME:LeisureCourses.net - short courses &amp; residential study breaks in great locations
X-ORIGINAL-URL:https://www.leisurecourses.net
X-WR-CALDESC:Events for LeisureCourses.net - short courses &amp; residential study breaks in great locations
BEGIN:VTIMEZONE
TZID:"Europe/Paris"
BEGIN:DAYLIGHT
TZOFFSETFROM:+0100
TZOFFSETTO:+0200
TZNAME:CEST
DTSTART:20160327T010000
END:DAYLIGHT
BEGIN:STANDARD
TZOFFSETFROM:+0200
TZOFFSETTO:+0100
TZNAME:CET
DTSTART:20161030T010000
END:STANDARD
END:VTIMEZONE
BEGIN:VEVENT
DTSTART;TZID="Europe/Paris":20160719T090000
DTEND;TZID="Europe/Paris":20160719T160000
DTSTAMP:20260420T010425
CREATED:20160218T160111Z
LAST-MODIFIED:20160219T095610Z
UID:20876-1468918800-1468944000@www.leisurecourses.net
SUMMARY:The Art of Paul Cézanne
DESCRIPTION:\nPaul Cézanne (1839–1906) is one of the most influential artists in the history of twentieth-century painting\, inspiring generations of modern artists with his unique method of building form with colour and his analytical approach to nature. Both Matisse and Picasso are said to have remarked that Cézanne “is the father of us all.” All-comers welcome. \n\n \n
URL:https://www.leisurecourses.net/course/the-art-of-paul-cezanne/
LOCATION:Dillington\, Dillington House\, Ilminster\, Somerset\, TA19 9DT\, United Kingdom
CATEGORIES:Art History
ORGANIZER;CN="Dillington":MAILTO:dillington@somerset.gov.uk	
END:VEVENT
END:VCALENDAR