BEGIN:VCALENDAR
VERSION:2.0
PRODID:-//LeisureCourses.net - short courses &amp; residential study breaks in great locations - ECPv4.9.6//NONSGML v1.0//EN
CALSCALE:GREGORIAN
METHOD:PUBLISH
X-WR-CALNAME:LeisureCourses.net - short courses &amp; residential study breaks in great locations
X-ORIGINAL-URL:https://www.leisurecourses.net
X-WR-CALDESC:Events for LeisureCourses.net - short courses &amp; residential study breaks in great locations
BEGIN:VTIMEZONE
TZID:"Europe/Paris"
BEGIN:DAYLIGHT
TZOFFSETFROM:+0100
TZOFFSETTO:+0200
TZNAME:CEST
DTSTART:20160327T010000
END:DAYLIGHT
BEGIN:STANDARD
TZOFFSETFROM:+0200
TZOFFSETTO:+0100
TZNAME:CET
DTSTART:20161030T010000
END:STANDARD
END:VTIMEZONE
BEGIN:VEVENT
DTSTART;TZID="Europe/Paris":20160729T190000
DTEND;TZID="Europe/Paris":20160731T153000
DTSTAMP:20260422T134303
CREATED:20160307T143319Z
LAST-MODIFIED:20160307T165043Z
UID:21312-1469818800-1469979000@www.leisurecourses.net
SUMMARY:The Beauty of Russian Lace
DESCRIPTION:\nRussian lace is a chain lace which has developed over many years. It gives the lacemaker the opportunity to play with colours and texture and even introduce beads into the lace. Taking part in the lace will help broaden participants conception of Russian lace and explore its potentials on an individual basis. The course will appeal to both the beginner and the experienced lacemaker alike. \n\n \n
URL:https://www.leisurecourses.net/course/the-beauty-of-russian-lace-2/
LOCATION:Knuston Hall\, Knuston Hall \, Irchester\, Wellingborough \, Northamptonshire \, NN29 7EU\, United Kingdom
CATEGORIES:Crafts
ORGANIZER;CN="Knuston%20Hall":MAILTO:enquiries@knustonhall.org.uk
END:VEVENT
END:VCALENDAR