BEGIN:VCALENDAR
VERSION:2.0
PRODID:-//LeisureCourses.net - short courses &amp; residential study breaks in great locations - ECPv4.9.6//NONSGML v1.0//EN
CALSCALE:GREGORIAN
METHOD:PUBLISH
X-WR-CALNAME:LeisureCourses.net - short courses &amp; residential study breaks in great locations
X-ORIGINAL-URL:https://www.leisurecourses.net
X-WR-CALDESC:Events for LeisureCourses.net - short courses &amp; residential study breaks in great locations
BEGIN:VTIMEZONE
TZID:"Europe/Paris"
BEGIN:DAYLIGHT
TZOFFSETFROM:+0100
TZOFFSETTO:+0200
TZNAME:CEST
DTSTART:20160327T010000
END:DAYLIGHT
BEGIN:STANDARD
TZOFFSETFROM:+0200
TZOFFSETTO:+0100
TZNAME:CET
DTSTART:20161030T010000
END:STANDARD
END:VTIMEZONE
BEGIN:VEVENT
DTSTART;TZID="Europe/Paris":20161118T143000
DTEND;TZID="Europe/Paris":20161120T160000
DTSTAMP:20260419T194459
CREATED:20160523T115901Z
LAST-MODIFIED:20160523T121831Z
UID:22954-1479479400-1479657600@www.leisurecourses.net
SUMMARY:The F.M. Alexander Technique
DESCRIPTION:\nApplying this technique can improve your skills in any life activity. Relieve stress and tension and improve your posture. \n\n \n
URL:https://www.leisurecourses.net/course/the-f-m-alexander-technique/
LOCATION:Hawkwood College\, Painswick Old Road \, Stroud \, Gloucestershire\, GL6 7QW\, United Kingdom
CATEGORIES:Health & Fitness
ORGANIZER;CN="Hawkwood%20College":MAILTO:info@hawkwoodcollege.co.uk
END:VEVENT
END:VCALENDAR