BEGIN:VCALENDAR
VERSION:2.0
PRODID:-//LeisureCourses.net - short courses &amp; residential study breaks in great locations - ECPv4.9.6//NONSGML v1.0//EN
CALSCALE:GREGORIAN
METHOD:PUBLISH
X-WR-CALNAME:LeisureCourses.net - short courses &amp; residential study breaks in great locations
X-ORIGINAL-URL:https://www.leisurecourses.net
X-WR-CALDESC:Events for LeisureCourses.net - short courses &amp; residential study breaks in great locations
BEGIN:VTIMEZONE
TZID:"Europe/Paris"
BEGIN:DAYLIGHT
TZOFFSETFROM:+0100
TZOFFSETTO:+0200
TZNAME:CEST
DTSTART:20160327T010000
END:DAYLIGHT
BEGIN:STANDARD
TZOFFSETFROM:+0200
TZOFFSETTO:+0100
TZNAME:CET
DTSTART:20161030T010000
END:STANDARD
END:VTIMEZONE
BEGIN:VEVENT
DTSTART;TZID="Europe/Paris":20160808T090000
DTEND;TZID="Europe/Paris":20160809T160000
DTSTAMP:20260421T085519
CREATED:20160218T160112Z
LAST-MODIFIED:20160219T093625Z
UID:20891-1470646800-1470758400@www.leisurecourses.net
SUMMARY:The Georgians - Their Art\, Architecture & Entertainment
DESCRIPTION:\nEverybody knows something about the Georgians but not everyone knows how foundational the period remains to our own time and culture. The Hanoverian succession was not easy although once established it created an enduring dynasty. This two-day course will explore the architecture\, the society\, briefly the politics\, the art\, literature and the music. We will learn how the Grand Tour informed taste – or didn’t\, as the case maybe. We will appreciate how our economy grew and how we learnt to rule the waves. The country was awash with entrepreneurs and London became the most important city in Europe. The legacy of those times still pervades so many notions of nationhood and taste. Lavishly illustrated throughout\, this course will both challenge and reinforce so many ideas that have resonance today. \n\n \n
URL:https://www.leisurecourses.net/course/the-georgians-their-art-architecture-entertainment/
LOCATION:Dillington\, Dillington House\, Ilminster\, Somerset\, TA19 9DT\, United Kingdom
CATEGORIES:History
ORGANIZER;CN="Dillington":MAILTO:dillington@somerset.gov.uk	
END:VEVENT
END:VCALENDAR