BEGIN:VCALENDAR
VERSION:2.0
PRODID:-//LeisureCourses.net - short courses &amp; residential study breaks in great locations - ECPv4.9.6//NONSGML v1.0//EN
CALSCALE:GREGORIAN
METHOD:PUBLISH
X-WR-CALNAME:LeisureCourses.net - short courses &amp; residential study breaks in great locations
X-ORIGINAL-URL:https://www.leisurecourses.net
X-WR-CALDESC:Events for LeisureCourses.net - short courses &amp; residential study breaks in great locations
BEGIN:VTIMEZONE

END:VTIMEZONE
BEGIN:VEVENT
DTSTART;TZID="Europe/Paris":19700101T000000
DTEND;TZID="Europe/Paris":19700101T000000
DTSTAMP:20260420T043327
CREATED:20150215T131941Z
LAST-MODIFIED:20150215T133819Z
UID:12309-0-0@www.leisurecourses.net
SUMMARY:The Glorious Age of Plant Hunting with Letta Jones
DESCRIPTION:\nexploring the 19th obsession with collecting and growing exotic and glamorous plants from abroad –  including Denman garden walk \n\n \n
URL:https://www.leisurecourses.net/course/the-glorious-age-of-plant-hunting-with-letta-jones-3/
LOCATION:Denman\, Denman \, Abingdon\, Oxfordshire\, OX13 6NW\, United Kingdom
CATEGORIES:General Interest
ORGANIZER;CN="Denman":MAILTO:info@denman.org.uk
END:VEVENT
END:VCALENDAR