BEGIN:VCALENDAR
VERSION:2.0
PRODID:-//LeisureCourses.net - short courses &amp; residential study breaks in great locations - ECPv4.9.6//NONSGML v1.0//EN
CALSCALE:GREGORIAN
METHOD:PUBLISH
X-WR-CALNAME:LeisureCourses.net - short courses &amp; residential study breaks in great locations
X-ORIGINAL-URL:https://www.leisurecourses.net
X-WR-CALDESC:Events for LeisureCourses.net - short courses &amp; residential study breaks in great locations
BEGIN:VTIMEZONE
TZID:"Europe/Paris"
BEGIN:DAYLIGHT
TZOFFSETFROM:+0100
TZOFFSETTO:+0200
TZNAME:CEST
DTSTART:20160327T010000
END:DAYLIGHT
BEGIN:STANDARD
TZOFFSETFROM:+0200
TZOFFSETTO:+0100
TZNAME:CET
DTSTART:20161030T010000
END:STANDARD
END:VTIMEZONE
BEGIN:VEVENT
DTSTART;TZID="Europe/Paris":20160513T190000
DTEND;TZID="Europe/Paris":20160515T140000
DTSTAMP:20260420T012620
CREATED:20160129T125430Z
LAST-MODIFIED:20160129T144755Z
UID:20329-1463166000-1463320800@www.leisurecourses.net
SUMMARY:The Grand Tour
DESCRIPTION:\nThe Grand Tour was an artistic and cultural phenomenon of the 18th century. This course analyses its effect upon portraiture\, landscape\, architecture and the art of collecting. We will also focus on the significance of Italian culture to the Englishman abroad and the impact of his patronage upon artistic development in both Italy and England. \n\n \n
URL:https://www.leisurecourses.net/course/the-grand-tour/
LOCATION:Madingley Hall\, Madingley Hall\,\, Madingley\, Cambridgeshire\, CB23 8AQ\, United Kingdom
CATEGORIES:History
ORGANIZER;CN="University%20of%20Cambridge%20Institute%20of%20Continuing%20Education":MAILTO:enquiries@ice.cam.ac.uk
END:VEVENT
END:VCALENDAR