BEGIN:VCALENDAR
VERSION:2.0
PRODID:-//LeisureCourses.net - short courses &amp; residential study breaks in great locations - ECPv4.9.6//NONSGML v1.0//EN
CALSCALE:GREGORIAN
METHOD:PUBLISH
X-WR-CALNAME:LeisureCourses.net - short courses &amp; residential study breaks in great locations
X-ORIGINAL-URL:https://www.leisurecourses.net
X-WR-CALDESC:Events for LeisureCourses.net - short courses &amp; residential study breaks in great locations
BEGIN:VTIMEZONE

END:VTIMEZONE
BEGIN:VEVENT
DTSTART;TZID="Europe/Paris":19700101T000000
DTEND;TZID="Europe/Paris":19700101T000000
DTSTAMP:20260419T222453
CREATED:20150215T131944Z
LAST-MODIFIED:20150215T133822Z
UID:12339-0-0@www.leisurecourses.net
SUMMARY:The Home Deli with Paul Peacock
DESCRIPTION:\nLearn how to make artisan foods with self sufficiency gurus –  Paul and Diana Peacock. Make your own Toulouse sausages and chorizo –  Wensleydale cheese and fabulous terrines. \n\n \n
URL:https://www.leisurecourses.net/course/the-home-deli-with-paul-peacock-3/
LOCATION:Denman\, Denman \, Abingdon\, Oxfordshire\, OX13 6NW\, United Kingdom
CATEGORIES:Cookery
ORGANIZER;CN="Denman":MAILTO:info@denman.org.uk
END:VEVENT
END:VCALENDAR