BEGIN:VCALENDAR
VERSION:2.0
PRODID:-//LeisureCourses.net - short courses &amp; residential study breaks in great locations - ECPv4.9.6//NONSGML v1.0//EN
CALSCALE:GREGORIAN
METHOD:PUBLISH
X-WR-CALNAME:LeisureCourses.net - short courses &amp; residential study breaks in great locations
X-ORIGINAL-URL:https://www.leisurecourses.net
X-WR-CALDESC:Events for LeisureCourses.net - short courses &amp; residential study breaks in great locations
BEGIN:VTIMEZONE
TZID:"Europe/Paris"
BEGIN:DAYLIGHT
TZOFFSETFROM:+0100
TZOFFSETTO:+0200
TZNAME:CEST
DTSTART:20130331T010000
END:DAYLIGHT
BEGIN:STANDARD
TZOFFSETFROM:+0200
TZOFFSETTO:+0100
TZNAME:CET
DTSTART:20131027T010000
END:STANDARD
END:VTIMEZONE
BEGIN:VEVENT
DTSTART;TZID="Europe/Paris":20130804T080000
DTEND;TZID="Europe/Paris":20130809T170000
DTSTAMP:20260419T204714
CREATED:20130520T081716Z
LAST-MODIFIED:20130822T125054Z
UID:768-1375603200-1376067600@www.leisurecourses.net
SUMMARY:The Journey
DESCRIPTION:\nThe Journey is a 5-day residential programme held at Embercombe. It is available to anyone who wishes to undertake a voyage of personal exploration and step towards their true authentic self and towards the world\, to make a powerful contribution which is aligned to their gifts\, passion\, and experience.\nThe Journey programme particularly focuses on reconnecting us with the natural environment as a source of our power and strength. \nThe programme is designed and directed by Embercombe’s founder and author of ‘Finding Earth\, Finding Soul’\, Tim ‘Mac’ Macartney.  \nDates for 2013:\n3rd – 8th March\n28th April – 3rd May\n4th – 9th August\n22nd – 27th September\n3rd – 8th November \n\n \n
URL:https://www.leisurecourses.net/course/the-journey/
LOCATION:Embercombe\, Higher Ashton \, Exeter \, Devon \, EX6 7QQ\, United Kingdom
CATEGORIES:Personal Development
ATTACH;FMTTYPE=image/jpeg:https://www.leisurecourses.net/wp-content/uploads/The-Journey.jpg
END:VEVENT
END:VCALENDAR