BEGIN:VCALENDAR
VERSION:2.0
PRODID:-//LeisureCourses.net - short courses &amp; residential study breaks in great locations - ECPv4.9.6//NONSGML v1.0//EN
CALSCALE:GREGORIAN
METHOD:PUBLISH
X-WR-CALNAME:LeisureCourses.net - short courses &amp; residential study breaks in great locations
X-ORIGINAL-URL:https://www.leisurecourses.net
X-WR-CALDESC:Events for LeisureCourses.net - short courses &amp; residential study breaks in great locations
BEGIN:VTIMEZONE
TZID:"Europe/Paris"
BEGIN:DAYLIGHT
TZOFFSETFROM:+0100
TZOFFSETTO:+0200
TZNAME:CEST
DTSTART:20160327T010000
END:DAYLIGHT
BEGIN:STANDARD
TZOFFSETFROM:+0200
TZOFFSETTO:+0100
TZNAME:CET
DTSTART:20161030T010000
END:STANDARD
END:VTIMEZONE
BEGIN:VEVENT
DTSTART;TZID="Europe/Paris":20160704T150000
DTEND;TZID="Europe/Paris":20160707T140000
DTSTAMP:20260420T031151
CREATED:20160218T160105Z
LAST-MODIFIED:20160219T102512Z
UID:20857-1467644400-1467900000@www.leisurecourses.net
SUMMARY:The Making of England: Alfred the Great & The House of Wessex
DESCRIPTION:\nFrom the reign of King Egbert in the early ninth century\, Wessex slowly emerged as the dominant kingdom in Anglo-Saxon England. Egbert’s direct descendant\, Alfred the Great\, saved Wessex from Viking attack and invasion and through far-sighted reforms provided his descendants with a foundation from which England would be unified. With reference to sources of the period\, we will look at the achievements of the House of Wessex and the society and culture of Anglo-Saxon England which emerged. The course includes a visit to a place of interest related to this period. All-comers welcome. \n\n \n
URL:https://www.leisurecourses.net/course/the-making-of-england-alfred-the-great-the-house-of-wessex/
LOCATION:Dillington\, Dillington House\, Ilminster\, Somerset\, TA19 9DT\, United Kingdom
CATEGORIES:History
ORGANIZER;CN="Dillington":MAILTO:dillington@somerset.gov.uk	
END:VEVENT
END:VCALENDAR