BEGIN:VCALENDAR
VERSION:2.0
PRODID:-//LeisureCourses.net - short courses &amp; residential study breaks in great locations - ECPv4.9.6//NONSGML v1.0//EN
CALSCALE:GREGORIAN
METHOD:PUBLISH
X-WR-CALNAME:LeisureCourses.net - short courses &amp; residential study breaks in great locations
X-ORIGINAL-URL:https://www.leisurecourses.net
X-WR-CALDESC:Events for LeisureCourses.net - short courses &amp; residential study breaks in great locations
BEGIN:VTIMEZONE
TZID:"Europe/Paris"
BEGIN:DAYLIGHT
TZOFFSETFROM:+0100
TZOFFSETTO:+0200
TZNAME:CEST
DTSTART:20160327T010000
END:DAYLIGHT
BEGIN:STANDARD
TZOFFSETFROM:+0200
TZOFFSETTO:+0100
TZNAME:CET
DTSTART:20161030T010000
END:STANDARD
END:VTIMEZONE
BEGIN:VEVENT
DTSTART;TZID="Europe/Paris":20160808T090000
DTEND;TZID="Europe/Paris":20160809T160000
DTSTAMP:20260421T115905
CREATED:20160218T160112Z
LAST-MODIFIED:20160219T093457Z
UID:20892-1470646800-1470758400@www.leisurecourses.net
SUMMARY:The Music of Tudor England
DESCRIPTION:\nThink of the Tudors and one thinks of the Reformation\, that devastating upheaval. For musicians it proved hard to cope\, as the rapturous elaborations of earlier times had to give way to simple purity. But Secular music also evolved\, and became more personal and revealing. John Taverner and Thomas Tallis will take centre stage in this course\, since their live stories are so emblematic: but others won’t be forgotten – not least John Dowland with his exquisite songs\, and the closet Catholic William Byrd. \n\n \n
URL:https://www.leisurecourses.net/course/the-music-of-tudor-england/
LOCATION:Dillington\, Dillington House\, Ilminster\, Somerset\, TA19 9DT\, United Kingdom
CATEGORIES:Music Appreciation
ORGANIZER;CN="Dillington":MAILTO:dillington@somerset.gov.uk	
END:VEVENT
END:VCALENDAR