BEGIN:VCALENDAR
VERSION:2.0
PRODID:-//LeisureCourses.net - short courses &amp; residential study breaks in great locations - ECPv4.9.6//NONSGML v1.0//EN
CALSCALE:GREGORIAN
METHOD:PUBLISH
X-WR-CALNAME:LeisureCourses.net - short courses &amp; residential study breaks in great locations
X-ORIGINAL-URL:https://www.leisurecourses.net
X-WR-CALDESC:Events for LeisureCourses.net - short courses &amp; residential study breaks in great locations
BEGIN:VTIMEZONE
TZID:"Europe/Paris"
BEGIN:DAYLIGHT
TZOFFSETFROM:+0100
TZOFFSETTO:+0200
TZNAME:CEST
DTSTART:20160327T010000
END:DAYLIGHT
BEGIN:STANDARD
TZOFFSETFROM:+0200
TZOFFSETTO:+0100
TZNAME:CET
DTSTART:20161030T010000
END:STANDARD
END:VTIMEZONE
BEGIN:VEVENT
DTSTART;TZID="Europe/Paris":20160708T190000
DTEND;TZID="Europe/Paris":20160710T140000
DTSTAMP:20260420T091752
CREATED:20160129T125437Z
LAST-MODIFIED:20160129T135732Z
UID:20363-1468004400-1468159200@www.leisurecourses.net
SUMMARY:The Renaissance garden in Britain: nature produces better fruit if cultivated
DESCRIPTION:\nItalian Renaissance design and intricacies arrived in Britain via France and the Low Countries\, manifesting a revolutionary attitude to the ‘taming’ of nature. We compare Tudor England with Stuart Scotland. We explore gardens as settings for collections of antique sculpture\, courtly dalliance\, philosophical discussion\, meditation\, theatre\, allegorical and moral instruction\, horticultural encyclopaedias and centres for botanical and medical research. \n\n \n
URL:https://www.leisurecourses.net/course/the-renaissance-garden-in-britain-nature-produces-better-fruit-if-cultivated/
LOCATION:Madingley Hall\, Madingley Hall\,\, Madingley\, Cambridgeshire\, CB23 8AQ\, United Kingdom
CATEGORIES:Other
ORGANIZER;CN="University%20of%20Cambridge%20Institute%20of%20Continuing%20Education":MAILTO:enquiries@ice.cam.ac.uk
END:VEVENT
END:VCALENDAR