BEGIN:VCALENDAR
VERSION:2.0
PRODID:-//LeisureCourses.net - short courses &amp; residential study breaks in great locations - ECPv4.9.6//NONSGML v1.0//EN
CALSCALE:GREGORIAN
METHOD:PUBLISH
X-WR-CALNAME:LeisureCourses.net - short courses &amp; residential study breaks in great locations
X-ORIGINAL-URL:https://www.leisurecourses.net
X-WR-CALDESC:Events for LeisureCourses.net - short courses &amp; residential study breaks in great locations
BEGIN:VTIMEZONE

END:VTIMEZONE
BEGIN:VEVENT
DTSTART;TZID="Europe/Paris":19700101T000000
DTEND;TZID="Europe/Paris":19700101T000000
DTSTAMP:20260420T091739
CREATED:20150215T131950Z
LAST-MODIFIED:20150215T133826Z
UID:12365-0-0@www.leisurecourses.net
SUMMARY:Tour de France with Peter Lien
DESCRIPTION:\nJoin Peter Lien –  WI Cookery School Chef Manager –  for a culinary journey around France \n\n \n
URL:https://www.leisurecourses.net/course/tour-de-france-with-peter-lien-3/
LOCATION:Denman\, Denman \, Abingdon\, Oxfordshire\, OX13 6NW\, United Kingdom
CATEGORIES:Cookery
ORGANIZER;CN="Denman":MAILTO:info@denman.org.uk
END:VEVENT
END:VCALENDAR