BEGIN:VCALENDAR
VERSION:2.0
PRODID:-//LeisureCourses.net - short courses &amp; residential study breaks in great locations - ECPv4.9.6//NONSGML v1.0//EN
CALSCALE:GREGORIAN
METHOD:PUBLISH
X-WR-CALNAME:LeisureCourses.net - short courses &amp; residential study breaks in great locations
X-ORIGINAL-URL:https://www.leisurecourses.net
X-WR-CALDESC:Events for LeisureCourses.net - short courses &amp; residential study breaks in great locations
BEGIN:VTIMEZONE
TZID:"Europe/Paris"
BEGIN:DAYLIGHT
TZOFFSETFROM:+0100
TZOFFSETTO:+0200
TZNAME:CEST
DTSTART:20160327T010000
END:DAYLIGHT
BEGIN:STANDARD
TZOFFSETFROM:+0200
TZOFFSETTO:+0100
TZNAME:CET
DTSTART:20161030T010000
END:STANDARD
END:VTIMEZONE
BEGIN:VEVENT
DTSTART;TZID="Europe/Paris":20160401T190000
DTEND;TZID="Europe/Paris":20160403T140000
DTSTAMP:20260420T091752
CREATED:20160129T125425Z
LAST-MODIFIED:20160129T163416Z
UID:20276-1459537200-1459692000@www.leisurecourses.net
SUMMARY:Tracing the origins of the British using genetics\, linguistics and chroniclers
DESCRIPTION:\nThe origins of the British seem to have been securely laid out since Bede in AD 731\, who described the coming of the Anglo-Saxons\, and since Buchanan in AD 1582\, who suggested that the early British were from Gaul\, ultimately leading to the modern concept of an Iron Age ‘Celtic’ Britain. However\, the traditional views are coming under scrutiny with the tools of DNA-based population genetics. This course will explain the basics of DNA analysis\, describe current genetic and linguistic research on British origins\, and re-examine some of the ancient sources in the light of the new research. A knowledge of genetics and Latin will be helpful but not essential for this course. \n\n \n
URL:https://www.leisurecourses.net/course/tracing-the-origins-of-the-british-using-genetics-linguistics-and-chroniclers/
LOCATION:Madingley Hall\, Madingley Hall\,\, Madingley\, Cambridgeshire\, CB23 8AQ\, United Kingdom
CATEGORIES:History
ORGANIZER;CN="University%20of%20Cambridge%20Institute%20of%20Continuing%20Education":MAILTO:enquiries@ice.cam.ac.uk
END:VEVENT
END:VCALENDAR