BEGIN:VCALENDAR
VERSION:2.0
PRODID:-//LeisureCourses.net - short courses &amp; residential study breaks in great locations - ECPv4.9.6//NONSGML v1.0//EN
CALSCALE:GREGORIAN
METHOD:PUBLISH
X-WR-CALNAME:LeisureCourses.net - short courses &amp; residential study breaks in great locations
X-ORIGINAL-URL:https://www.leisurecourses.net
X-WR-CALDESC:Events for LeisureCourses.net - short courses &amp; residential study breaks in great locations
BEGIN:VTIMEZONE
TZID:"Europe/Paris"
BEGIN:DAYLIGHT
TZOFFSETFROM:+0100
TZOFFSETTO:+0200
TZNAME:CEST
DTSTART:20140330T010000
END:DAYLIGHT
BEGIN:STANDARD
TZOFFSETFROM:+0200
TZOFFSETTO:+0100
TZNAME:CET
DTSTART:20141026T010000
END:STANDARD
END:VTIMEZONE
BEGIN:VEVENT
DTSTART;TZID="Europe/Paris":20141212T180000
DTEND;TZID="Europe/Paris":20141214T130000
DTSTAMP:20260420T062234
CREATED:20141010T144555Z
LAST-MODIFIED:20141101T145714Z
UID:8223-1418407200-1418562000@www.leisurecourses.net
SUMMARY:Ukulele Weekend for Refreshers and Improvers 
DESCRIPTION:\nThis  course is offered to anyone who wants to refresh or improve their ukulele playing. New material is introduced every year so even if you have done this course before there is still much to learn. The course will concentrate on having fun and playing together and the pace of learning will be appropriate to each person. Experienced teachers will guide you throughout so that you will complete the course with sufficient skills to continue your progress at home. Please Note: You will need to bring a ukulele to the course. \n\n \n
URL:https://www.leisurecourses.net/course/ukulele-weekend-refreshers-improvers/
LOCATION:Knuston Hall\, Knuston Hall \, Irchester\, Wellingborough \, Northamptonshire \, NN29 7EU\, United Kingdom
CATEGORIES:Music
ORGANIZER;CN="Knuston%20Hall":MAILTO:enquiries@knustonhall.org.uk
END:VEVENT
END:VCALENDAR