BEGIN:VCALENDAR
VERSION:2.0
PRODID:-//LeisureCourses.net - short courses &amp; residential study breaks in great locations - ECPv4.9.6//NONSGML v1.0//EN
CALSCALE:GREGORIAN
METHOD:PUBLISH
X-WR-CALNAME:LeisureCourses.net - short courses &amp; residential study breaks in great locations
X-ORIGINAL-URL:https://www.leisurecourses.net
X-WR-CALDESC:Events for LeisureCourses.net - short courses &amp; residential study breaks in great locations
BEGIN:VTIMEZONE
TZID:"Europe/Paris"
BEGIN:DAYLIGHT
TZOFFSETFROM:+0100
TZOFFSETTO:+0200
TZNAME:CEST
DTSTART:20160327T010000
END:DAYLIGHT
BEGIN:STANDARD
TZOFFSETFROM:+0200
TZOFFSETTO:+0100
TZNAME:CET
DTSTART:20161030T010000
END:STANDARD
END:VTIMEZONE
BEGIN:VEVENT
DTSTART;TZID="Europe/Paris":20160423T110000
DTEND;TZID="Europe/Paris":20160423T160000
DTSTAMP:20260420T025130
CREATED:20160414T120625Z
LAST-MODIFIED:20160415T093257Z
UID:22057-1461409200-1461427200@www.leisurecourses.net
SUMMARY:Usui reiki level 1 workshops
DESCRIPTION:\nUsui reiki level 1 workshops – learn reiki healing for yourself\, friends\, family & pets \n1 day workshops available on: \nSaturday 23 April or 30 April \n11.00 – 16.00 \nresidential options also available if you would like to make this in to a longer retreat break with us in rural France \n​\nUsui reiki level 1 workshop \nRei – universal\nKi – life force/energy\n(known as Chi in China or prana in India) \nReiki is an ancient Japanese healing technique for relaxation and stress relief. It is a natural energy therapy that promotes holistic balance and healing. Reiki can benefit the physical\, emotional\, mental and spiritual body and can be helpful for numerous conditions from back pain and insomnia to depression\, stress & anxiety. Reiki works alongside other complementary therapies or medication/medical treatment. \nReiki is administered by ‘laying on hands’ in a series of positions over the body and in the energy field/aura. It is developed from the idea that an unseen ‘life force energy’ flows through us all. If this is low then we are more susceptible to illness\, disease and feelings of stress. If our energy (or ki) is high and balanced then we are more able to experience health and well-being. \nDuring the reiki workshop day you will be ‘attuned’ to reiki level 1 (healer level) by a simple process of 4 attunement procedures carried out by your reiki master-teacher. This will enable you to use reiki to heal yourself\, your friends\, family and pets. \n1. You will learn about the definition of reiki – what is reiki? \n2. You will learn about the history of Usui reiki and the important figures who developed its use. \n3. You will receive the 4 level 1 attunements and learn how to use reiki healing for yourself\, friends and family and pets and how you can use reiki in everyday life situations. Hand positions for treatment of self and others. \n4. There will be plenty of time to practice what you are learning during the workshop\, both on yourself and others in attendance at the workshop (when relevant). \n5. Reiki self-care\, after-care and the 21 day cleansing process and contra-indications of using reiki. \n6. On successful completion of the reiki level 1 workshop you will be awarded a certificate to confirm your attendance on the Usui reiki level 1 workshop and that you have been attuned to Usui reiki level 1. \n7. Your reiki master-teacher is available for ongoing post workshop support. \nwhat’s included? \nReiki manual\, certificate\, lunch and refreshments included.\nsmall group training groups to ensure full dedicated support and learning. \ncost: \n€120 for level 1\nresidential option has additional cost. Please contact for price and availability. \nFor any more information and to book your place please do not hesitate to get in touch. \nWe look forward to welcoming you soon. \n  \n \n\n \n
URL:https://www.leisurecourses.net/course/usui-reiki-level-1-workshops/
LOCATION:De Tout Coeur Limousin\, Soumeix\, Royere de Vassiviere\, Limousin\, 23460\, France
CATEGORIES:Fitness & Wellbeing,Personal Development
ORGANIZER;CN="De%20Tout%20Coeur%20Limousin":MAILTO:de2coeur@gmail.com
END:VEVENT
END:VCALENDAR