BEGIN:VCALENDAR
VERSION:2.0
PRODID:-//LeisureCourses.net - short courses &amp; residential study breaks in great locations - ECPv4.9.6//NONSGML v1.0//EN
CALSCALE:GREGORIAN
METHOD:PUBLISH
X-WR-CALNAME:LeisureCourses.net - short courses &amp; residential study breaks in great locations
X-ORIGINAL-URL:https://www.leisurecourses.net
X-WR-CALDESC:Events for LeisureCourses.net - short courses &amp; residential study breaks in great locations
BEGIN:VTIMEZONE
TZID:"Europe/Paris"
BEGIN:DAYLIGHT
TZOFFSETFROM:+0100
TZOFFSETTO:+0200
TZNAME:CEST
DTSTART:20140330T010000
END:DAYLIGHT
BEGIN:STANDARD
TZOFFSETFROM:+0200
TZOFFSETTO:+0100
TZNAME:CET
DTSTART:20141026T010000
END:STANDARD
END:VTIMEZONE
BEGIN:VEVENT
DTSTART;TZID="Europe/Paris":20140505T180000
DTEND;TZID="Europe/Paris":20140509T140000
DTSTAMP:20260419T154611
CREATED:20130810T150411Z
LAST-MODIFIED:20131009T154559Z
UID:4694-1399312800-1399644000@www.leisurecourses.net
SUMMARY:Vegetarian Cookery Course
DESCRIPTION:\nJoin the Vegetarian Cookery School for a culinary break in the beautiful surroundings of Château Ventenac\, a 19th century stone castle in the Languedoc region of Southern France. Our five day/four night residential course will give you the opportunity to learn seasonal Mediterranean cookery with Rachel Demuth\, owner of the award winning Demuth’s Vegetarian Restaurant in Bath for 20 years. \nThe vegetarian course includes four cookery sessions with a combination of hands on cookery and demonstration where we will create delicious Mediterranean meals together using the best seasonal vegetables\, local oils and wines. We will visit a local market\, visit local producers and have a special wine tasting with Juliet Bruce Jones\, Master of Wine. \nSurrounded by stunning countryside and the nearby Canal du Midi you will have plenty of time to relax\, swim and unwind and\, of course\, sample the local specialities. \n\n \n
URL:https://www.leisurecourses.net/course/vegetarian-cookery/
LOCATION:Chateau Ventenac\, Ventenac-en-Minervois\, Languedoc-Roussillon\, 11120\, France
CATEGORIES:Cookery
ATTACH;FMTTYPE=image/jpeg:https://www.leisurecourses.net/wp-content/uploads/Stuffed-Fougasse.jpg
END:VEVENT
END:VCALENDAR