BEGIN:VCALENDAR
VERSION:2.0
PRODID:-//LeisureCourses.net - short courses &amp; residential study breaks in great locations - ECPv4.9.6//NONSGML v1.0//EN
CALSCALE:GREGORIAN
METHOD:PUBLISH
X-WR-CALNAME:LeisureCourses.net - short courses &amp; residential study breaks in great locations
X-ORIGINAL-URL:https://www.leisurecourses.net
X-WR-CALDESC:Events for LeisureCourses.net - short courses &amp; residential study breaks in great locations
BEGIN:VTIMEZONE
TZID:"Europe/Paris"
BEGIN:DAYLIGHT
TZOFFSETFROM:+0100
TZOFFSETTO:+0200
TZNAME:CEST
DTSTART:20160327T010000
END:DAYLIGHT
BEGIN:STANDARD
TZOFFSETFROM:+0200
TZOFFSETTO:+0100
TZNAME:CET
DTSTART:20161030T010000
END:STANDARD
END:VTIMEZONE
BEGIN:VEVENT
DTSTART;TZID="Europe/Paris":20160808T090000
DTEND;TZID="Europe/Paris":20160812T160000
DTSTAMP:20260420T010133
CREATED:20160218T160112Z
LAST-MODIFIED:20160219T093100Z
UID:20890-1470646800-1471017600@www.leisurecourses.net
SUMMARY:Viva España
DESCRIPTION:\nA mini festival of individual subjects celebrating the vibrancy of Spanish history and culture. All complete in themselves but amounting to a week discussing and revelling in all things Spanish. Topics during the week range from art\, music\, literature\, politics and history. Further detail for each day is shown under the Day Courses section. \n\n \n
URL:https://www.leisurecourses.net/course/viva-espana/
LOCATION:Dillington\, Dillington House\, Ilminster\, Somerset\, TA19 9DT\, United Kingdom
CATEGORIES:History
ORGANIZER;CN="Dillington":MAILTO:dillington@somerset.gov.uk	
END:VEVENT
END:VCALENDAR